BEGIN:VCALENDAR
VERSION:2.0
PRODID:-//ChamberMaster//Event Calendar 2.0//EN
METHOD:PUBLISH
X-PUBLISHED-TTL:P3D
REFRESH-INTERVAL:P3D
CALSCALE:GREGORIAN
BEGIN:VEVENT
DTSTART:20190619T160000Z
DTEND:20190619T190000Z
X-MICROSOFT-CDO-ALLDAYEVENT:FALSE
SUMMARY:SBDC - Going Global on Amazon & E-Commerce Opportunities
DESCRIPTION:Learn from Amazon experts & other B2C cross-border sellers to fast-track your export sales. Cross-border online sales will reach $1 trillion by 2020\, however\, 74% of merchants are not prepared to service their top markets. Gain straight-talking insights on how to tap into global markets via e-commerce and learn actionable takeaways you can apply to your growth strategy immediately.\n\n\n\nKey Topics\n\n	How to Expand & Grow Cross-Border Sales\n	Global Fulfillment Strategy\, Door-to-Door delivery to your customers worldwide\n	How to Deal with Multi-Channel Global Sales\, B2C Direct & Distributors\n	Other International E-Commerce Platforms\n	Website Global Checkouts and Foreign Tax Compliance\n\n\n\nSpeakers\n\n	Joshua Halpern\, Getting to Global\n	Ryan Mulvany\, Quiverr.com\n	Tony Michalski\, U.S. Commercial Service Tawnee Steinke\, Zonos\n	Martin Selander\, SBA\, Orange County U.S. Export Assistance Center\n	Paul Duncan\, EXIM Bank\n\nClick here for more information.
X-ALT-DESC;FMTTYPE=text/html:Learn from Amazon experts &amp\; other B2C cross-border sellers to fast-track your export sales. Cross-border online sales will reach $1 trillion by 2020\, however\, 74% of merchants are not prepared to service their top markets. Gain straight-talking insights on how to tap into global markets via e-commerce and learn actionable takeaways you can apply to your growth strategy immediately.<br />\n<br />\nKey Topics\n<ul>\n	<li>How to Expand &amp\; Grow Cross-Border Sales</li>\n	<li>Global Fulfillment Strategy\, Door-to-Door delivery to your customers worldwide</li>\n	<li>How to Deal with Multi-Channel Global Sales\, B2C Direct &amp\; Distributors</li>\n	<li>Other International E-Commerce Platforms</li>\n	<li>Website Global Checkouts and Foreign Tax Compliance</li>\n</ul>\n<br />\nSpeakers\n<ul>\n	<li>Joshua Halpern\, Getting to Global</li>\n	<li>Ryan Mulvany\, Quiverr.com</li>\n	<li>Tony Michalski\, U.S. Commercial Service Tawnee Steinke\, Zonos</li>\n	<li>Martin Selander\, SBA\, Orange County U.S. Export Assistance Center</li>\n	<li>Paul Duncan\, EXIM Bank</li>\n</ul>\n<a href="https://chambermaster.blob.core.windows.net/userfiles/UserFiles/chambers/887/File/GlobalAmazonWorkshopFlyer.pdf">Click here for more information.</a>
LOCATION:Garden Grove Community Meeting Center 11300 Stanford Ave. Garden Grove\, CA 92840
UID:e.887.23402
SEQUENCE:3
DTSTAMP:20260422T041414Z
URL:https://business.nocchamber.com/events/details/sbdc-going-global-on-amazon-e-commerce-opportunities-23402
END:VEVENT

END:VCALENDAR
