BEGIN:VCALENDAR
VERSION:2.0
PRODID:-//ChamberMaster//Event Calendar 2.0//EN
METHOD:PUBLISH
X-PUBLISHED-TTL:P3D
REFRESH-INTERVAL:P3D
CALSCALE:GREGORIAN
BEGIN:VEVENT
DTSTART:20190814T010000Z
DTEND:20190814T023000Z
X-MICROSOFT-CDO-ALLDAYEVENT:FALSE
SUMMARY:SBDC - Creating a Successful Business Plan
DESCRIPTION:In this workshop\, learn how to:\n\n\n\n	   Break apart the components of the business plan into manageable steps\n	   Define your business succinctly\n	   Research your competition and target market\n	   Develop your operating and marketing plans\n	   Start understanding your financial statements
X-ALT-DESC;FMTTYPE=text/html:<div>\n<p>&nbsp\;In this workshop\, learn how to:</p>\n</div>\n\n<ul>\n	<li>&nbsp\;&nbsp\; Break apart the components of the business plan into manageable steps</li>\n	<li>&nbsp\; &nbsp\;Define your business succinctly</li>\n	<li>&nbsp\; &nbsp\;Research your competition and target market</li>\n	<li>&nbsp\; &nbsp\;Develop your operating and marketing plans</li>\n	<li>&nbsp\; &nbsp\;Start understanding your financial statements</li>\n</ul>\n
LOCATION:Digital Media Center 1300 S. Bristol St. Santa Ana\, CA 92704
UID:e.887.23626
SEQUENCE:3
DTSTAMP:20260422T015125Z
URL:https://business.nocchamber.com/events/details/sbdc-creating-a-successful-business-plan-23626
END:VEVENT

END:VCALENDAR
