BEGIN:VCALENDAR
VERSION:2.0
PRODID:-//ChamberMaster//Event Calendar 2.0//EN
METHOD:PUBLISH
X-PUBLISHED-TTL:P3D
REFRESH-INTERVAL:P3D
CALSCALE:GREGORIAN
BEGIN:VEVENT
DTSTART:20190724T010000Z
DTEND:20190724T030000Z
X-MICROSOFT-CDO-ALLDAYEVENT:FALSE
SUMMARY:SBDC - CEO Moms Orange County - Brea
DESCRIPTION:CEO Moms OC is a six-week program to help you launch your business with help from business experts! You'll not only have a chance to learn from our special guest speakers\, you'll also have the ability to connect with these and other guests via live webinar every week   all at no cost.\n\n\n\nWhat are the benefits you ask?\n\n	You'll receive a one-year membership to the National Association of Women Business Owners (NAWBO) at no cost\n	You'll receive a customized market research reports for their industry and product/service\n	Have the opportunity to interact with guest speakers during live webinars\n	1:1 consulting at the SBDC at the close of the program\n	Pop up shop graduation show for community members and leaders\n\n\n\nWhat You'll Learn:\n\n\n\nSession 1 | It's Your Business\n\n	Ideation\, viability\, and motivation\n\nSession 2 | Do Your Due (Diligence)\n\n\n	Identifying your place in the market   SWOT\, 4 P's\, competition matrix\n	Market research report overview\n	Features and benefits\n\nSession 3 | Full Circle Marketing   Targeting\, Branding\, Analysis\n\n\n	Customer identification\, personas\, and target marketing\n	Branding\n	Industry look\n\nSession 4 | Let's Talk Price\, Cost\, and Revenue\n\n\n	Pricing the product or service   breakeven analysis\n	Startup costs\n	Financial projections\n	Financial benchmarks\n\nSession 5 | Launching Local and Operating like a Pro\n\n\n	Starting a business in OC - permits\, licenses\, EINs\, DBAs\, and special requirements\n	Operations - Processes and systems\, banking\, expenses\, finances\, employees and vendors\n	Legal considerations\n\nSession 6 | Financing\, Sales and Fulfillment\n\n\n	Digital marketing strategies and sales techniques\n	Merchandising\n	Customer engagement\n	Order fulfillment\n	Financing options   the works
X-ALT-DESC;FMTTYPE=text/html:CEO Moms OC is a six-week program to help you launch your business with help from business experts! You&rsquo\;ll not only have a chance to learn from our special guest speakers\, you&rsquo\;ll also have the ability to connect with these and other guests via live webinar every week &ndash\; all at no cost.<br />\n<br />\nWhat are the benefits you ask?\n<ul>\n	<li>You&#39\;ll receive a one-year membership to the National Association of Women Business Owners (NAWBO) at no cost</li>\n	<li>You&#39\;ll receive a customized market research reports for their industry and product/service</li>\n	<li>Have the opportunity to interact with guest speakers during live webinars</li>\n	<li>1:1 consulting at the SBDC at the close of the program</li>\n	<li>Pop up shop graduation show for community members and leaders</li>\n</ul>\n<br />\nWhat You&#39\;ll Learn:<br />\n<br />\nSession 1 | It&rsquo\;s Your Business\n<ul>\n	<li>Ideation\, viability\, and motivation</li>\n</ul>\nSession 2 | Do Your Due (Diligence)\n\n<ul>\n	<li>Identifying your place in the market &ndash\; SWOT\, 4 P&rsquo\;s\, competition matrix</li>\n	<li>Market research report overview</li>\n	<li>Features and benefits</li>\n</ul>\nSession 3 | Full Circle Marketing &ndash\; Targeting\, Branding\, Analysis\n\n<ul>\n	<li>Customer identification\, personas\, and target marketing</li>\n	<li>Branding</li>\n	<li>Industry look</li>\n</ul>\nSession 4 | Let&rsquo\;s Talk Price\, Cost\, and Revenue\n\n<ul>\n	<li>Pricing the product or service &ndash\; breakeven analysis</li>\n	<li>Startup costs</li>\n	<li>Financial projections</li>\n	<li>Financial benchmarks</li>\n</ul>\nSession 5 | Launching Local and Operating like a Pro\n\n<ul>\n	<li>Starting a business in OC - permits\, licenses\, EINs\, DBAs\, and special requirements</li>\n	<li>Operations - Processes and systems\, banking\, expenses\, finances\, employees and vendors</li>\n	<li>Legal considerations</li>\n</ul>\nSession 6 | Financing\, Sales and Fulfillment\n\n<ul>\n	<li>Digital marketing strategies and sales techniques</li>\n	<li>Merchandising</li>\n	<li>Customer engagement</li>\n	<li>Order fulfillment</li>\n	<li>Financing options &ndash\; the works</li>\n</ul>\n
LOCATION:675 Placentia Ave Brea\, CA 92821
UID:e.887.23407
SEQUENCE:3
DTSTAMP:20260422T030318Z
URL:https://business.nocchamber.com/events/details/sbdc-ceo-moms-orange-county-brea-23407
END:VEVENT

END:VCALENDAR
