BEGIN:VCALENDAR
VERSION:2.0
PRODID:-//ChamberMaster//Event Calendar 2.0//EN
METHOD:PUBLISH
X-PUBLISHED-TTL:P3D
REFRESH-INTERVAL:P3D
CALSCALE:GREGORIAN
BEGIN:VEVENT
DTSTART:20181130T020000Z
DTEND:20181130T040000Z
X-MICROSOFT-CDO-ALLDAYEVENT:FALSE
SUMMARY:SBDC - Accessing and Managing Capital Workshop
DESCRIPTION:Accessing and Managing Capital Workshop:\n\n	Factors related to obtaining business financing\n	Proper financial management techniques for business\n	Importance of credit\n	The timing of borrowing  and potential lenders\n	Conventional lending products\n	Types of financing \n	Establish internal financial controls and retain a competent financial team
X-ALT-DESC;FMTTYPE=text/html:Accessing and Managing Capital Workshop:\n<ul>\n	<li>Factors related to obtaining business financing</li>\n	<li>Proper financial management techniques for business</li>\n	<li>Importance of credit</li>\n	<li>The timing of borrowing&nbsp\; and potential lenders</li>\n	<li>Conventional lending products</li>\n	<li>Types of financing&nbsp\;</li>\n	<li>Establish internal financial controls and retain a competent financial team</li>\n</ul>\n
LOCATION:Digitial Media Center 1300 S. Bristol St.\, Room 103 Santa Ana\, CA 92704
UID:e.887.22877
SEQUENCE:3
DTSTAMP:20260422T124937Z
URL:https://business.nocchamber.com/events/details/sbdc-accessing-and-managing-capital-workshop-22877
END:VEVENT

END:VCALENDAR
