BEGIN:VCALENDAR
VERSION:2.0
PRODID:-//ChamberMaster//Event Calendar 2.0//EN
METHOD:PUBLISH
X-PUBLISHED-TTL:P3D
REFRESH-INTERVAL:P3D
CALSCALE:GREGORIAN
BEGIN:VEVENT
DTSTART:20190724T003000Z
DTEND:20190724T010000Z
X-MICROSOFT-CDO-ALLDAYEVENT:FALSE
SUMMARY:SBA - Small Business Summit
DESCRIPTION:The U.S. Small Business Administration is a tax-payer funded organization whose mission is to help small businesses.\n\nSylvia Gutierrez\, Economic Development Specialist of the Orange County SBA will be onsite to inform attendees of free programs businesses can take advantage of to help them grow.\n\nYou'll have an opportunity to connect with SBA representatives to get all of your questions asked on how the SBA can work for you.\n\nYou'll also receive information on how to set up your business for growth in these programs.\n\nFor more information on the Small Business Administration\, head to SBA.GOV.
X-ALT-DESC;FMTTYPE=text/html:<p>The U.S. Small Business Administration is a tax-payer funded organization whose mission is to help small businesses.</p>\n\n<p>Sylvia Gutierrez\, Economic Development Specialist of the Orange County SBA will be onsite to inform attendees of free&nbsp\;programs businesses can take advantage of to help them grow.</p>\n\n<p>You&#39\;ll have an opportunity to connect with SBA representatives to get all of your questions asked on how the SBA can work for you.</p>\n\n<p>You&#39\;ll also receive information on how to set up your business for growth in these programs.</p>\n\n<p>For more information on the Small Business Administration\, head to <a href="http://SBA.GOV" target="_blank">SBA.GOV</a>.</p>\n
LOCATION:Costa Mesa Chamber of Commerce 1700 Adams Ave.\, #101 Costa Mesa\, CA 92626
UID:e.887.23460
SEQUENCE:3
DTSTAMP:20260422T030136Z
URL:https://business.nocchamber.com/events/details/sba-small-business-summit-23460
END:VEVENT

END:VCALENDAR
