BEGIN:VCALENDAR
VERSION:2.0
PRODID:-//ChamberMaster//Event Calendar 2.0//EN
METHOD:PUBLISH
X-PUBLISHED-TTL:P3D
REFRESH-INTERVAL:P3D
CALSCALE:GREGORIAN
BEGIN:VEVENT
DTSTART:20190815T150000Z
DTEND:20190815T183000Z
X-MICROSOFT-CDO-ALLDAYEVENT:FALSE
SUMMARY:SBA Small Business Certifications: 8(a)\, HUBZone\, and WOSB Application Workshop
DESCRIPTION:This detailed session will review three of the certification programs within Federal contracting - the Woman-Owned Small Business Set-Aside program\, the HUBZone program\, and the 8(a) Business Development Program. For all three programs\, they will discuss the eligibility criteria\; the programmatic benefits for participants\; and the process to pursue the certification.\n\n8(a) Business Development Program is a business development program created to help small disadvantaged businesses compete in the American economy and access the federal procurement market.\n\n\n	Participants in the 8(a) business development program can receive sole source contracts up to $4 million for goods and services and $7 million for manufacturing.\n	The federal government has a goal of awarding 5% of all dollars for federal prime contracts to 8(a) firms.\n\n\nSBA's HUBZone Program helps small businesses in urban and rural communities gain preferential access to federal procurement opportunities.\n\n\n	10% price evaluation preference in full and open contract competitions\, as well as subcontracting opportunities.\n	The federal government has a goal of awarding 3% of all dollars for federal prime contracts to HUBZone-certified small business concerns.\n\n\nSBA's WOSB Program is designed to help more women owned small businesses to win federal contracts by providing a level playing field for WOSBs to compete.\n\n\n	The federal government has a goal of awarding 5% of all dollars for federal prime contracts to WOSB firms.\n	The program is a self-certification program through SAM.\n\n\nPre-registration is required as seating is limited.\n\nParking is not validated by SBA. There is parking available in the Griffin Towers parking structure. Current rate is $5 per hour with a $17 maximum daily charge. There is very limited parking outside of the structure.
X-ALT-DESC;FMTTYPE=text/html:<p>This detailed session will&nbsp\;review three of the certification programs within Federal contracting - the&nbsp\;Woman-Owned Small Business Set-Aside program\, the HUBZone program\, and the 8(a) Business Development Program. For all three programs\, they will discuss the eligibility criteria\; the programmatic benefits for participants\; and the process to pursue the certification.</p>\n\n<p>8(a) Business Development Program&nbsp\;is a business development program created to help small disadvantaged businesses compete in the American economy and access the federal procurement market.</p>\n\n<ul>\n	<li>Participants in the 8(a) business development program can receive sole source contracts up to $4 million for goods and services and $7 million for manufacturing.</li>\n	<li>The federal government has a goal of awarding 5% of all dollars for federal prime contracts to 8(a) firms.</li>\n</ul>\n\n<p>SBA&#39\;s HUBZone Program&nbsp\;helps small businesses in urban and rural communities gain preferential access to federal procurement opportunities.</p>\n\n<ul>\n	<li>10% price evaluation preference in full and open contract competitions\, as well as subcontracting opportunities.</li>\n	<li>The federal government has a goal of awarding 3% of all dollars for federal prime contracts to HUBZone-certified small business concerns.</li>\n</ul>\n\n<p>SBA&rsquo\;s WOSB Program&nbsp\;is designed to help more women owned small businesses to win federal contracts by providing a level playing field for WOSBs to compete.</p>\n\n<ul>\n	<li>The federal government has a goal of awarding 5% of all dollars for federal prime contracts to WOSB firms.</li>\n	<li>The program is a self-certification program through SAM.</li>\n</ul>\n\n<p><a href="https://www.eventbrite.com/e/sba-small-business-certifications-8a-hubzone-and-wosb-application-workshop-tickets-49697666057" target="_blank">Pre-registration</a>&nbsp\;is required as seating is limited.</p>\n\n<p>Parking is not validated by SBA. There is parking available in the Griffin Towers parking structure. Current rate is $5 per hour with a $17 maximum daily charge. There is very limited parking outside of the structure.</p>\n
LOCATION:SBA Orange County/Inland Empire District Office 5 Hutton Centre Dr. Suite 900 Santa Ana\, CA 92707
UID:e.887.23333
SEQUENCE:3
DTSTAMP:20260422T015247Z
URL:https://business.nocchamber.com/events/details/sba-small-business-certifications-8-a-hubzone-and-wosb-application-workshop-23333
END:VEVENT

END:VCALENDAR
