BEGIN:VCALENDAR
VERSION:2.0
PRODID:-//ChamberMaster//Event Calendar 2.0//EN
METHOD:PUBLISH
X-PUBLISHED-TTL:P3D
REFRESH-INTERVAL:P3D
CALSCALE:GREGORIAN
BEGIN:VEVENT
DTSTART:20190619T140000Z
DTEND:20190619T223000Z
X-MICROSOFT-CDO-ALLDAYEVENT:FALSE
SUMMARY:SBA's 9th Annual So Cal Small Business & Contracting Conference
DESCRIPTION:Join SBA and its partner network for a day of presentations\, workshops\, matchmaking and business development opportunities.\n\nLast year's sold out conference attracted more than 40 corporate and government sector buyers and drew more than 500 attendees.\n\nDon't miss out on valuable workshops and your opportunity to meet Buyers from various Government agencies and Private Industry Companies!\n\nEdwards Air Force Base\n\nEdwars AFB is searching for small businesses within these industries: Construction (Paint\, Roofing\, HVAC\, General)\, Radio and Television Broadcasting and Wireless Communications Equipment Manufacturing\, Cable Assemblies Wire Harnesses\, Coaxial Cables\, RF Cables & RF Components\, Flight Test Engineering.\n\nClick Here to learn more.\n\nWood Environment & Infrastructure Solutions\n\nWood Environment & Infrastructure Solutions is a $11B global company with approximately 60\,000 employees. Wood has an award winning small business program and works to provide small businesses with opportunities in the following areas: civil\, electrical\, survey\, lab\, utility location\, construction services\, engineering services\, transportation and disposal\, soil\, oil and gas\, power\, water treatment\, stormwater\, biology\, aquatic science\, asbestos\, demolition\, fire protection\, environmental services and drilling. \n\nClick Here to learn more.\n\nFind out which Buyers will be at this year's conference.\n\n*Additional Buyers will be added as they are confirmed.\n\nWorkshop Topics Include:\n\n"Doing Business with Government"\n\n"Government Contracting Strategies & Compliance"\n\n"Bonding Education & Access to Capital for Small Business Owners"\n\nand More!*\n\nRegistration includes a continental breakfast\, morning plenary session\, a seated banquet lunch and onsite complimentary parking. \n\nFor additional information\, please contact Sandra Anguiano at 714-560-7446 or sandra.anguiano@sba.gov\n\nClick Here for event details and registration.\n\n*Workshop Schedule subject to change
X-ALT-DESC;FMTTYPE=text/html:<p>Join SBA and its partner network for a day of presentations\, workshops\, matchmaking and business development opportunities.</p>\n\n<p>Last year&#39\;s sold out conference attracted more than 40 corporate and government sector buyers and drew more than 500 attendees.</p>\n\n<p>Don&#39\;t miss out on valuable workshops and your opportunity to meet Buyers from various Government agencies and Private Industry Companies!</p>\n\n<p><strong>Edwards Air Force Base</strong><br />\nEdwars AFB is searching for small businesses within these industries: Construction (Paint\, Roofing\, HVAC\, General)\, Radio and Television Broadcasting and Wireless Communications Equipment Manufacturing\, Cable Assemblies Wire Harnesses\, Coaxial Cables\, RF Cables &amp\; RF Components\, Flight Test Engineering.<br />\nClick&nbsp\;<a data-auth="NotApplicable" href="http://links.govdelivery.com/track?type=click&amp\;enid=ZWFzPTEmbWFpbGluZ2lkPTIwMTkwNTIxLjYxMTEzODEmbWVzc2FnZWlkPU1EQi1QUkQtQlVMLTIwMTkwNTIxLjYxMTEzODEmZGF0YWJhc2VpZD0xMDAxJnNlcmlhbD0xNzIzODc5OCZlbWFpbGlkPXRoYXJ2ZXlAZnVsbGVydG9uY2hhbWJlci5jb20mdXNlcmlkPXRoYXJ2ZXlAZnVsbGVydG9uY2hhbWJlci5jb20mZmw9JmV4dHJhPU11bHRpdmFyaWF0ZUlkPSYmJg==&amp\;&amp\;&amp\;102&amp\;&amp\;&amp\;https://www.edwards.af.mil/?utm_medium=email&amp\;utm_source=govdelivery" rel="noopener noreferrer" target="_blank">Here</a>&nbsp\;to learn more.</p>\n\n<p><strong>Wood Environment &amp\; Infrastructure Solutions</strong><br />\nWood Environment &amp\; Infrastructure Solutions is a $11B global company with approximately 60\,000 employees. Wood has an award winning small business program and works to provide small businesses with opportunities in the following areas: civil\, electrical\, survey\, lab\, utility location\, construction services\, engineering services\, transportation and disposal\, soil\, oil and gas\, power\, water treatment\, stormwater\, biology\, aquatic science\, asbestos\, demolition\, fire protection\, environmental services and drilling.&nbsp\;<br />\nClick&nbsp\;<a data-auth="NotApplicable" href="http://links.govdelivery.com/track?type=click&amp\;enid=ZWFzPTEmbWFpbGluZ2lkPTIwMTkwNTIxLjYxMTEzODEmbWVzc2FnZWlkPU1EQi1QUkQtQlVMLTIwMTkwNTIxLjYxMTEzODEmZGF0YWJhc2VpZD0xMDAxJnNlcmlhbD0xNzIzODc5OCZlbWFpbGlkPXRoYXJ2ZXlAZnVsbGVydG9uY2hhbWJlci5jb20mdXNlcmlkPXRoYXJ2ZXlAZnVsbGVydG9uY2hhbWJlci5jb20mZmw9JmV4dHJhPU11bHRpdmFyaWF0ZUlkPSYmJg==&amp\;&amp\;&amp\;103&amp\;&amp\;&amp\;https://www.woodplc.com/?utm_medium=email&amp\;utm_source=govdelivery" rel="noopener noreferrer" target="_blank">Here</a>&nbsp\;to learn more.</p>\n\n<p>Find out which Buyers will be at this year&#39\;s&nbsp\;<a data-auth="NotApplicable" href="http://links.govdelivery.com/track?type=click&amp\;enid=ZWFzPTEmbWFpbGluZ2lkPTIwMTkwNTIxLjYxMTEzODEmbWVzc2FnZWlkPU1EQi1QUkQtQlVMLTIwMTkwNTIxLjYxMTEzODEmZGF0YWJhc2VpZD0xMDAxJnNlcmlhbD0xNzIzODc5OCZlbWFpbGlkPXRoYXJ2ZXlAZnVsbGVydG9uY2hhbWJlci5jb20mdXNlcmlkPXRoYXJ2ZXlAZnVsbGVydG9uY2hhbWJlci5jb20mZmw9JmV4dHJhPU11bHRpdmFyaWF0ZUlkPSYmJg==&amp\;&amp\;&amp\;104&amp\;&amp\;&amp\;https://sbasmallbusinessconference.org/business-matchmaking-2019/?utm_medium=email&amp\;utm_source=govdelivery" rel="noopener noreferrer" target="_blank">conference</a>.<br />\n*Additional Buyers will be added as they are confirmed.</p>\n\n<p><strong>Workshop Topics Include:</strong></p>\n\n<p><em>&quot\;Doing Business with Government&quot\;</em></p>\n\n<p><em>&quot\;Government Contracting Strategies &amp\; Compliance&quot\;</em></p>\n\n<p><em>&quot\;Bonding Education &amp\; Access to Capital for Small Business Owners&quot\;</em></p>\n\n<p><em>and More!*</em></p>\n\n<p>Registration includes a continental breakfast\, morning plenary session\, a seated banquet lunch and onsite complimentary parking.&nbsp\;</p>\n\n<p>For additional information\, please contact Sandra Anguiano at 714-560-7446 or&nbsp\;<a data-auth="NotApplicable" href="mailto:sandra.anguiano@sba.gov" rel="noopener noreferrer" target="_blank">sandra.anguiano@sba.gov</a></p>\n\n<p>Click&nbsp\;<a data-auth="NotApplicable" href="http://links.govdelivery.com/track?type=click&amp\;enid=ZWFzPTEmbWFpbGluZ2lkPTIwMTkwNTIxLjYxMTEzODEmbWVzc2FnZWlkPU1EQi1QUkQtQlVMLTIwMTkwNTIxLjYxMTEzODEmZGF0YWJhc2VpZD0xMDAxJnNlcmlhbD0xNzIzODc5OCZlbWFpbGlkPXRoYXJ2ZXlAZnVsbGVydG9uY2hhbWJlci5jb20mdXNlcmlkPXRoYXJ2ZXlAZnVsbGVydG9uY2hhbWJlci5jb20mZmw9JmV4dHJhPU11bHRpdmFyaWF0ZUlkPSYmJg==&amp\;&amp\;&amp\;105&amp\;&amp\;&amp\;https://sbasmallbusinessconference.org/?utm_medium=email&amp\;utm_source=govdelivery" rel="noopener noreferrer" target="_blank">Here&nbsp\;</a>for event details and registration.</p>\n\n<p>*Workshop Schedule subject to change</p>\n\n<p>&nbsp\;</p>\n
LOCATION:Delta Hotels by Marriott - Anaheim / Garden Grove 12021 Harbor Blvd. Garden Grove\, CA 92840
UID:e.887.23326
SEQUENCE:3
DTSTAMP:20260422T041803Z
URL:https://business.nocchamber.com/events/details/sba-s-9th-annual-so-cal-small-business-contracting-conference-23326
END:VEVENT

END:VCALENDAR
