BEGIN:VCALENDAR
VERSION:2.0
PRODID:-//ChamberMaster//Event Calendar 2.0//EN
METHOD:PUBLISH
X-PUBLISHED-TTL:P3D
REFRESH-INTERVAL:P3D
CALSCALE:GREGORIAN
BEGIN:VEVENT
DTSTART:20200616T010000Z
DTEND:20200616T020000Z
X-MICROSOFT-CDO-ALLDAYEVENT:FALSE
SUMMARY:SBA - How to Answer Tell Me About Yourself
DESCRIPTION:Whether interviewing for a job\, or being interviewed for a newspaper or blog article once you hit the big time with your new business\, eventually\, someone is going to ask you the age-old question\, "Tell me about yourself!" and you better be ready with what to say. You will also learn how to tackle questions like\, "Tell me about a time when..."
X-ALT-DESC;FMTTYPE=text/html:Whether interviewing for a job\, or being interviewed for a newspaper or blog article once you hit the big time with your new business\, eventually\, someone is going to ask you the age-old question\, &quot\;Tell me about yourself!&quot\; and you better be ready with what to say. You will also learn how to tackle questions like\, &quot\;Tell me about a time when...&quot\;
LOCATION:Online
UID:e.887.24400
SEQUENCE:3
DTSTAMP:20260421T143029Z
URL:https://business.nocchamber.com/events/details/sba-how-to-answer-tell-me-about-yourself-24400
END:VEVENT

END:VCALENDAR
