BEGIN:VCALENDAR
VERSION:2.0
PRODID:-//ChamberMaster//Event Calendar 2.0//EN
METHOD:PUBLISH
X-PUBLISHED-TTL:P3D
REFRESH-INTERVAL:P3D
CALSCALE:GREGORIAN
BEGIN:VEVENT
DTSTART:20200415T230000Z
DTEND:20200416T003000Z
X-MICROSOFT-CDO-ALLDAYEVENT:FALSE
SUMMARY:SBA Economic Injury Disaster Loan and Paycheck Protection Q&A
DESCRIPTION:With various SBA emergency business resources available\, we understand you have a lot of questions. Please join SBA for today's Zoom call at 4:00 p.m. (PST) to learn more about the Economic Injury Disaster Loan (EIDL)\, EIDL Advance\, and Paycheck Protection Program (PPP/P3) and get your questions answered.\n\n\n\nSessions will be hosted daily
X-ALT-DESC;FMTTYPE=text/html:<p>With various SBA emergency business resources available\, we understand you have a lot of questions. Please join SBA for today&#39\;s Zoom call at 4:00 p.m. (PST) to learn more about the Economic Injury Disaster Loan (EIDL)\, EIDL Advance\, and Paycheck Protection Program (PPP/P3) and get your questions answered.<br />\n<br />\nSessions will be hosted daily</p>\n
LOCATION:Register in advance for this webinar: https://score.zoom.us/webinar/register/WN_-_Hw3bVMT0Ko2Tu0pZ1OqA After registering\, you will receive a confirmation email containing information about joining the webinar. Or join by phone: Dial(for higher quality\, dial a number based on your current location): US: +1 346 248 7799 or +1 669 900 6833 or +1 929 205 6099 or +1 253 215 8782 or +1 301 715 8592 or +1 312 626 6799 Webinar ID: 133 337 209 International numbers available: https://score.zoom.us/u/ade2SkD1hM
UID:e.887.24276
SEQUENCE:3
DTSTAMP:20260421T154450Z
URL:https://business.nocchamber.com/events/details/sba-economic-injury-disaster-loan-and-paycheck-protection-q-a-04-15-2020-24276
END:VEVENT

END:VCALENDAR
