BEGIN:VCALENDAR
VERSION:2.0
PRODID:-//ChamberMaster//Event Calendar 2.0//EN
METHOD:PUBLISH
X-PUBLISHED-TTL:P3D
REFRESH-INTERVAL:P3D
CALSCALE:GREGORIAN
BEGIN:VEVENT
DTSTART:20181107T160000Z
DTEND:20181108T000000Z
X-MICROSOFT-CDO-ALLDAYEVENT:FALSE
SUMMARY:SBA - 4th Annual SoCal Business Connect Summit
DESCRIPTION:SBA is holding their 4th Annual SoCal Business Connect: \n\n	Secure contracts\n	Learn from Industry Pros\n	Meet with Fortune 500 Companies
X-ALT-DESC;FMTTYPE=text/html:<span style="background-image:initial\;background-position:initial\;background-size:initial\;background-repeat:initial\;background-attachment:initial\;background-origin:initial\;background-clip:initial\;"><span style="font-family:arial\,sans-serif\;"><span style="font-size:10pt\;">SBA is holding their <strong>4th Annual SoCal Business Connect</strong>:&nbsp\;</span></span></span>\n<ul>\n	<li><span style="background-image:initial\;background-position:initial\;background-size:initial\;background-repeat:initial\;background-attachment:initial\;background-origin:initial\;background-clip:initial\;"><span style="font-family:arial\,sans-serif\;"><span style="font-size:10pt\;">Secure contracts</span></span></span></li>\n	<li><span style="background-image:initial\;background-position:initial\;background-size:initial\;background-repeat:initial\;background-attachment:initial\;background-origin:initial\;background-clip:initial\;"><span style="font-family:arial\,sans-serif\;"><span style="font-size:10pt\;">Learn from Industry Pros</span></span></span></li>\n	<li><span style="background-image:initial\;background-position:initial\;background-size:initial\;background-repeat:initial\;background-attachment:initial\;background-origin:initial\;background-clip:initial\;"><span style="font-family:arial\,sans-serif\;"><span style="font-size:10pt\;">Meet with Fortune 500 Companies</span></span></span></li>\n</ul>\n
LOCATION:Riverside Convention Center 3637 5th St. Riverside\, CA 92501
UID:e.887.22802
SEQUENCE:3
DTSTAMP:20260422T125034Z
URL:https://business.nocchamber.com/events/details/sba-4th-annual-socal-business-connect-summit-22802
END:VEVENT

END:VCALENDAR
