BEGIN:VCALENDAR
VERSION:2.0
PRODID:-//ChamberMaster//Event Calendar 2.0//EN
METHOD:PUBLISH
X-PUBLISHED-TTL:P3D
REFRESH-INTERVAL:P3D
CALSCALE:GREGORIAN
BEGIN:VEVENT
DTSTART:20200312T150000Z
DTEND:20200313T000000Z
X-MICROSOFT-CDO-ALLDAYEVENT:FALSE
SUMMARY:Santa Ana: Supervisory Skills Training
DESCRIPTION:Rancho Santiago Community College District is hosting a supervisory skills training class to teach the necessary skills required to lead a team effectively. By attending this training\, supervisors will be able to improve their communication and supervision skills.\n\n\n\nCall 714-480-7550\, or e-mail customizedtraining@rsccd.edu to pre-register.
X-ALT-DESC;FMTTYPE=text/html:Rancho Santiago Community College District is hosting a supervisory skills training class to teach the necessary skills required to lead a team effectively. By attending this training\, supervisors will be able to improve their communication and supervision skills.<br />\n<br />\nCall 714-480-7550\, or e-mail customizedtraining@rsccd.edu to pre-register.
LOCATION:2323 N Broadway\, Suite 305 Santa Ana\, CA 92706
UID:e.887.24121
SEQUENCE:3
DTSTAMP:20260421T180153Z
URL:https://business.nocchamber.com/events/details/santa-ana-supervisory-skills-training-24121
END:VEVENT

END:VCALENDAR
