BEGIN:VCALENDAR
VERSION:2.0
PRODID:-//ChamberMaster//Event Calendar 2.0//EN
METHOD:PUBLISH
X-PUBLISHED-TTL:P3D
REFRESH-INTERVAL:P3D
CALSCALE:GREGORIAN
BEGIN:VEVENT
DTSTART:20200220T220000Z
DTEND:20200221T013000Z
X-MICROSOFT-CDO-ALLDAYEVENT:FALSE
SUMMARY:Santa Ana: SBA - GROW Economic Development Conference
DESCRIPTION:The U.S. Small Business Administration is hosting a GROW Economic Development Conference of senior level executives\, city stakeholders and senior level city officials who will be speaking on creative innovation and the rise of urbanization in the heart of Orange County. For developers\, investors\, employees\, entrepreneurs\, real estate brokers\, and residents\, Santa Ana represents the backdrop of creative innovation.
X-ALT-DESC;FMTTYPE=text/html:The U.S. Small Business Administration is hosting a GROW Economic Development Conference of senior level executives\, city stakeholders and senior level city officials who will be speaking on creative innovation and the rise of urbanization in the heart of Orange County. For developers\, investors\, employees\, entrepreneurs\, real estate brokers\, and residents\, Santa Ana represents the backdrop of creative innovation.
LOCATION:Santa Ana Elks Lodge 1751 S. Lyon St. Santa Ana\, CA 92705
UID:e.887.24117
SEQUENCE:3
DTSTAMP:20260421T180223Z
URL:https://business.nocchamber.com/events/details/santa-ana-sba-grow-economic-development-conference-24117
END:VEVENT

END:VCALENDAR
