BEGIN:VCALENDAR
VERSION:2.0
PRODID:-//ChamberMaster//Event Calendar 2.0//EN
METHOD:PUBLISH
X-PUBLISHED-TTL:P3D
REFRESH-INTERVAL:P3D
CALSCALE:GREGORIAN
BEGIN:VEVENT
DTSTART:20191211T220000Z
DTEND:20191212T000000Z
X-MICROSOFT-CDO-ALLDAYEVENT:FALSE
SUMMARY:Santa Ana - OC Supervisor Doug Chaffee's Holiday Open House
DESCRIPTION:OC Supervisor Doug Chaffee and his colleagues will be hosting their annual Holiday Open House.  Enjoy "Taste of District 4" at Supervisor Chaffee's Office provided by a local restaurant.  Refreshments also provided by Chairwoman Lisa Bartlett\, Vice Chair Michelle Steel\, Supervisor Andrew Do\, and Supervisor Don Wagner.  \n\n\n\nParking Options:\n\n	Paid public parking structure (P8) across the street from the Hall of Administration (Building 10).\n\n	Go South on Broadway St\, turn right onto West Santa Ana Blvd and turn left into the P8 parking structure\n	Paid parking lot (P5) of the Old County Courthouse (Building 1)\n\n	Located on the corner of Broadway St and Santa Ana Blvd (parking meters)\n	Paid parking along Ross St. between Santa Ana Blvd and Civic Center Drive (parking meters)\n\nFor telephone directions to finding Civic Center locations\, please call 714.834.5400.\n\nClick on this link for the the OC Civic Center map.
X-ALT-DESC;FMTTYPE=text/html:OC Supervisor Doug Chaffee and his colleagues will be hosting their annual Holiday Open House.&nbsp\; Enjoy &quot\;Taste of District 4&quot\; at Supervisor Chaffee&#39\;s Office provided by a local restaurant.&nbsp\; Refreshments also provided by Chairwoman Lisa Bartlett\, Vice Chair Michelle Steel\, Supervisor Andrew Do\, and Supervisor Don Wagner.&nbsp\;&nbsp\;<br />\n<br />\n<u>Parking Options:</u>\n<ul>\n	<li>Paid public parking structure (P8) across the street from the Hall of Administration (Building 10).<br />\n	Go South on Broadway St\, turn right onto West Santa Ana Blvd and turn left into the P8 parking structure</li>\n	<li>Paid parking lot (P5) of the Old County Courthouse (Building 1)<br />\n	Located on the corner of Broadway St and Santa Ana Blvd (parking meters)</li>\n	<li>Paid parking along Ross St. between Santa Ana Blvd and Civic Center Drive (parking meters)</li>\n</ul>\nFor telephone directions to finding Civic Center locations\, please call 714.834.5400.<br />\n<a href="https://lnks.gd/l/eyJhbGciOiJIUzI1NiJ9.eyJidWxsZXRpbl9saW5rX2lkIjoxMDAsInVyaSI6ImJwMjpjbGljayIsImJ1bGxldGluX2lkIjoiMjAxOTEyMDMuMTM3NTI3NzEiLCJ1cmwiOiJodHRwOi8vd3d3Lm9jcHVibGljd29ya3MuY29tL2NpdmljYXgvZmlsZWJhbmsvYmxvYmRsb2FkLmFzcHg_YmxvYmlkPTk4OTEwIn0.BUIoUvZvIso48CULbmCg8vQeXfFMv2vwfgrVfWEatxQ/br/72158610040-l" target="_blank">Click on this link</a>&nbsp\;for the the OC Civic Center map.&nbsp\;&nbsp\;<br />\n&nbsp\;
LOCATION:Orange County Hall of Administration 333 W. Santa Ana Blvd.\, 5th Floor Santa Ana\, CA 92701
UID:e.887.23851
SEQUENCE:3
DTSTAMP:20260421T202858Z
URL:https://business.nocchamber.com/events/details/santa-ana-oc-supervisor-doug-chaffee-s-holiday-open-house-23851
END:VEVENT

END:VCALENDAR
