BEGIN:VCALENDAR
VERSION:2.0
PRODID:-//ChamberMaster//Event Calendar 2.0//EN
METHOD:PUBLISH
X-PUBLISHED-TTL:P3D
REFRESH-INTERVAL:P3D
CALSCALE:GREGORIAN
BEGIN:VEVENT
DTSTART:20191204T020000Z
DTEND:20191204T033000Z
X-MICROSOFT-CDO-ALLDAYEVENT:FALSE
SUMMARY:Santa Ana - OC SBDC Small Business Jump Start
DESCRIPTION:If you are an aspiring entrepreneurs and have a great idea or passion and want to know how to turn it into a business\, join us at the Small Business Jump-Start workshop.\n\n \n\nChoosing the right small business to start - one that will succeed - requires planning\, creativity and hard work. You will get answers to question like:\n\n \n\nHow do I start?\n\n	Where are my resources?\n	Who is a reliable source of information?\n	How much capital will I need to launch?\n	How do I create a plan?\n	What are my next steps?
X-ALT-DESC;FMTTYPE=text/html:If you are an aspiring entrepreneurs and have a great idea or passion and want to know how to turn it into a business\, join us at the Small Business Jump-Start workshop.<br />\n&nbsp\;<br />\nChoosing the right small business to start - one that will succeed - requires planning\, creativity and hard work. You will get answers to question like:<br />\n&nbsp\;<br />\nHow do I start?\n<ul>\n	<li>Where are my resources?</li>\n	<li>Who is a reliable source of information?</li>\n	<li>How much capital will I need to launch?</li>\n	<li>How do I create a plan?</li>\n	<li>What are my next steps?</li>\n</ul>\n
LOCATION:1300 S. Bristol St. Santa Ana\, CA 92704
UID:e.887.23843
SEQUENCE:3
DTSTAMP:20260421T202745Z
URL:https://business.nocchamber.com/events/details/santa-ana-oc-sbdc-small-business-jump-start-23843
END:VEVENT

END:VCALENDAR
