BEGIN:VCALENDAR
VERSION:2.0
PRODID:-//ChamberMaster//Event Calendar 2.0//EN
METHOD:PUBLISH
X-PUBLISHED-TTL:P3D
REFRESH-INTERVAL:P3D
CALSCALE:GREGORIAN
BEGIN:VEVENT
DTSTART:20191211T200000Z
DTEND:20191211T213000Z
X-MICROSOFT-CDO-ALLDAYEVENT:FALSE
SUMMARY:Santa Ana - OC SBDC Accounting for Startups
DESCRIPTION:This hands-on workshop is for start-up companies that want to immediately start using free online basic accounting software. Participants will customize the software for their company and set up their accounting system. Workshop attendees will also create a company adding customers\, vendors\, products and services. Instruction will be provided on setting up sales tax\, payroll and financial reporting using the software. \n\n \n\nComputers will be provided on-site but participants can also bring their own laptop computer.\n\n  \n\n *Proficiency with computers is required.\n\n \n\n Guests are encouraged to bring their bagged lunches.
X-ALT-DESC;FMTTYPE=text/html:This hands-on workshop is for start-up companies that want to immediately start using free online basic accounting software. Participants will customize the software for their company and set up their accounting system.&nbsp\;Workshop attendees will also create a company adding customers\, vendors\, products and services. Instruction will be provided on setting up sales tax\, payroll and financial reporting using the software.&nbsp\;<br />\n&nbsp\;<br />\nComputers will be provided on-site but participants can also bring their own laptop computer.<br />\n&nbsp\;&nbsp\;<br />\n<em>&#65279\;*Proficiency with computers is required.</em><br />\n&nbsp\;<br />\n&nbsp\;Guests are encouraged to bring their bagged lunches.
LOCATION:1300 S. Bristol St.\, Room 203 Santa Ana\, CA 92704
UID:e.887.23845
SEQUENCE:3
DTSTAMP:20260421T214207Z
URL:https://business.nocchamber.com/events/details/santa-ana-oc-sbdc-accounting-for-startups-23845
END:VEVENT

END:VCALENDAR
