BEGIN:VCALENDAR
VERSION:2.0
PRODID:-//ChamberMaster//Event Calendar 2.0//EN
METHOD:PUBLISH
X-PUBLISHED-TTL:P3D
REFRESH-INTERVAL:P3D
CALSCALE:GREGORIAN
BEGIN:VEVENT
DTSTART:20200225T180000Z
DTEND:20200225T213000Z
X-MICROSOFT-CDO-ALLDAYEVENT:FALSE
SUMMARY:Santa Ana - OC SBA Lender Forum 2020
DESCRIPTION:SBA Orange County/Inland Empire Lender Forum will feature two senior Agency officials. They will speak about the SBA loan program updates\, advances and sales opportunities for small business and lending communities. \n\n\n\nKeynote Speakers:\n\nWilliam Manager - Associate Administrator\, Office of Capital Access\n\nDavid M. Glaccum - Associate Administrator\, Office of International Trade\n\n\n\nRegistration directions to come.
X-ALT-DESC;FMTTYPE=text/html:SBA Orange County/Inland Empire Lender Forum will feature two senior Agency officials. They will speak about the SBA loan program updates\, advances and sales opportunities for small business and lending communities.&nbsp\;<br />\n<br />\nKeynote Speakers:<br />\nWilliam Manager - Associate Administrator\, Office of Capital Access<br />\nDavid M. Glaccum - Associate Administrator\, Office of International Trade<br />\n<br />\nRegistration directions to come.&nbsp\;
LOCATION:DoubleTree by Hilton Santa Ana/Orange County Airport 201 E. MacArthur Blvd. Santa Ana\, CA 92707
UID:e.887.24067
SEQUENCE:3
DTSTAMP:20260421T180224Z
URL:https://business.nocchamber.com/events/details/santa-ana-oc-sba-lender-forum-2020-24067
END:VEVENT

END:VCALENDAR
