BEGIN:VCALENDAR
VERSION:2.0
PRODID:-//ChamberMaster//Event Calendar 2.0//EN
METHOD:PUBLISH
X-PUBLISHED-TTL:P3D
REFRESH-INTERVAL:P3D
CALSCALE:GREGORIAN
BEGIN:VEVENT
DTSTART:20200124T020000Z
DTEND:20200124T033000Z
X-MICROSOFT-CDO-ALLDAYEVENT:FALSE
SUMMARY:Santa Ana - OC Clerk Assessment Appeals Division Workshop
DESCRIPTION:This workshop is part of the Clerk of the Board's outreach program and will provide you with valuable information in preparing for your assessment appeal application hearing. Therefore\, we invite and encourage you to attend one of the workshops listed below. We look forward to meeting you and answering your questions. For questions concerning any of the workshops\, please call the Orange County Assessment Appeals Division staff at (714) 834-2331\, ext. 1. For more information and presentation material\, go to http://ocgov.com/gov/cob/apa/workshops.
X-ALT-DESC;FMTTYPE=text/html:This workshop is part of the Clerk of the Board&rsquo\;s outreach program and will provide you with valuable information in preparing for your assessment appeal application hearing. Therefore\, we invite and encourage you to attend one of the workshops listed below. We look forward to meeting you and answering your questions. For questions concerning any of the workshops\, please call the Orange County Assessment Appeals Division staff at (714) 834-2331\, ext. 1. For more information and presentation material\, go to <a href="http://This workshop is part of the Clerk of the Board?s outreach program and will provide you with valuable information in preparing for your assessment appeal application hearing. Therefore\, we invite and encourage you to attend one of the workshops listed below. We look forward to meeting you and answering your questions. For questions concerning any of the workshops\, please call the Orange County Assessment Appeals Division staff at (714) 834-2331\, ext. 1. For more information and presentation material\, go to http://ocgov.com/gov/cob/apa/workshops.">http://ocgov.com/gov/cob/apa/workshops.</a>
LOCATION:Rancho Santiago Community College District Board Room 2323 N. Broadway\, First Floor Santa Ana\, CA 92706
UID:e.887.24059
SEQUENCE:3
DTSTAMP:20260421T191500Z
URL:https://business.nocchamber.com/events/details/santa-ana-oc-clerk-assessment-appeals-division-workshop-24059
END:VEVENT

END:VCALENDAR
