BEGIN:VCALENDAR
VERSION:2.0
PRODID:-//ChamberMaster//Event Calendar 2.0//EN
METHOD:PUBLISH
X-PUBLISHED-TTL:P3D
REFRESH-INTERVAL:P3D
CALSCALE:GREGORIAN
BEGIN:VEVENT
DTSTART:20191112T180000Z
DTEND:20191112T200000Z
X-MICROSOFT-CDO-ALLDAYEVENT:FALSE
SUMMARY:Santa Ana- Metro Veterans Program Training Event
DESCRIPTION:This event will focus on resume techniques and interview skill training for veterans. Additionally\, you can learn more about Metro employment opportunities\, vetsgo511\, and more.
X-ALT-DESC;FMTTYPE=text/html:This event will focus on resume techniques and interview skill training for veterans. Additionally\, you can learn more about Metro employment opportunities\, vetsgo511\, and more.
LOCATION:Building A\, CPO Conference Room 1300 S. Grand Ave Santa Ana\, CA\, 92705
UID:e.887.23815
SEQUENCE:3
DTSTAMP:20260421T214009Z
URL:https://business.nocchamber.com/events/details/santa-ana-metro-veterans-program-training-event-23815
END:VEVENT

END:VCALENDAR
