BEGIN:VCALENDAR
VERSION:2.0
PRODID:-//ChamberMaster//Event Calendar 2.0//EN
METHOD:PUBLISH
X-PUBLISHED-TTL:P3D
REFRESH-INTERVAL:P3D
CALSCALE:GREGORIAN
BEGIN:VEVENT
DTSTART:20190628T000000Z
DTEND:20190628T020000Z
X-MICROSOFT-CDO-ALLDAYEVENT:FALSE
SUMMARY:Safety First Resource Fair
DESCRIPTION:As the summer season approaches\, it is important to choose safety first. Senator Chang invites you to learn how to keep summer activities safe and fun. Whether it's pool safety\, emergency preparedness or cyber security\, the resource fair has information for you and your entire family. The City of Buena Park and community organizations will provide safety demonstrations\, prevention tips\, free giveaways\, and fun for the whole family. Click here to RSVP.
X-ALT-DESC;FMTTYPE=text/html:As the summer season approaches\, it is important to choose safety first. Senator Chang invites you to learn how to keep summer activities safe and fun. Whether it&#39\;s pool safety\, emergency preparedness or cyber security\, the resource fair has information for you and your entire family. The City of Buena Park and community organizations will provide safety demonstrations\, prevention tips\, free giveaways\, and fun for the whole family.&nbsp\;<a data-auth="NotApplicable" href="https://lcmspubcontact.lc.ca.gov/PublicLCMS/LinkTracking.php?id=244180&amp\;eaid=313470&amp\;url=https%3A%2F%2Flcmspubcontact.lc.ca.gov%2FPublicLCMS%2FSDInfo%2Feinvites%2FSD29%2F454_Safety_First_Resource_Fair.html&amp\;tid=SD29C342383004" rel="noopener noreferrer" target="_blank">Click here</a>&nbsp\;to RSVP.
LOCATION:Heritage Hall at Ehlers Event Center 8150 Knott Ave. Buena Park\, CA 90620
UID:e.887.23389
SEQUENCE:3
DTSTAMP:20260422T053133Z
URL:https://business.nocchamber.com/events/details/safety-first-resource-fair-23389
END:VEVENT

END:VCALENDAR
