BEGIN:VCALENDAR
VERSION:2.0
PRODID:-//ChamberMaster//Event Calendar 2.0//EN
METHOD:PUBLISH
X-PUBLISHED-TTL:P3D
REFRESH-INTERVAL:P3D
CALSCALE:GREGORIAN
BEGIN:VEVENT
DTSTART:20190920T023000Z
DTEND:20190920T043000Z
X-MICROSOFT-CDO-ALLDAYEVENT:FALSE
SUMMARY:Rum Tasting and Seafarin’ Music at The Muck
DESCRIPTION:Celebrate "International Talk Like A Pirate Day" at The Muck with John Kraus and the Goers the most unique and daring folk ensemble ever to sail the seas  and sample an assortment of rum in the pirate bar. Dress in your piratical best and sign the articles on a voyage for rum.
X-ALT-DESC;FMTTYPE=text/html:<p>Celebrate &ldquo\;International Talk Like A Pirate Day&rdquo\; at The Muck with&nbsp\;John Kraus and the Goers&mdash\;the most unique and daring folk ensemble ever to sail the seas&mdash\; and&nbsp\;sample an assortment of&nbsp\;rum in the&nbsp\;pirate bar. Dress in your&nbsp\;piratical best and&nbsp\;sign the articles on a voyage for rum.</p>\n
LOCATION:The Muckenthaler Cultural Center 1201 W Malvern Ave Fullerton\, CA 92833
UID:e.887.23642
SEQUENCE:3
DTSTAMP:20260422T013741Z
URL:https://business.nocchamber.com/events/details/rum-tasting-and-seafarin-music-at-the-muck-23642
END:VEVENT

END:VCALENDAR
