BEGIN:VCALENDAR
VERSION:2.0
PRODID:-//ChamberMaster//Event Calendar 2.0//EN
METHOD:PUBLISH
X-PUBLISHED-TTL:P3D
REFRESH-INTERVAL:P3D
CALSCALE:GREGORIAN
BEGIN:VEVENT
DTSTART:20180802T183000Z
DTEND:20180802T203000Z
X-MICROSOFT-CDO-ALLDAYEVENT:FALSE
SUMMARY:RSVP Event Space - Christmas in August
DESCRIPTION:RSVP Event Space invites you for an opportunity to preview their space and discuss pricing options\, and talk to Sara Parrell from Colette's Catering about their delicious food and beverage packages for your next Holiday Party.  Sally Shin of Pretty Little Events will be on hand to show you how her balloon decorations and custom signage can enhance your end of the year celebration\, as well as florist\, Janet Chung of Robinson's Flowers.  You'll also have an opportunity to speak with Monica Lewis and book All Star Photobooth to add a fun element to your special event\, and they also have special pricing for a DJ.  Come on by during your lunch break this Wednesday or Thursday\, August 1st or 2nd\, from 11:30 a.m. to 1:30 p.m. to meet them and for some light desserts.
X-ALT-DESC;FMTTYPE=text/html:RSVP Event Space invites you&nbsp\;for an&nbsp\;opportunity to preview their space and discuss pricing options\, and talk to Sara Parrell from <strong>Colette&rsquo\;s Catering</strong> about their delicious food and beverage packages for your next Holiday Party.&nbsp\; Sally Shin of <strong>Pretty Little Events</strong> will be on hand to show you how her balloon decorations and custom signage can enhance your end of the year celebration\, as well as&nbsp\;florist\, Janet Chung of <strong>Robinson&#39\;s Flowers</strong>.&nbsp\; You&#39\;ll also have an opportunity to speak with Monica Lewis and book&nbsp\;<strong>All Star&nbsp\;Photobooth</strong> to add a fun element to your special event\, and they also have special pricing for a DJ.&nbsp\; Come on by during your lunch break this <strong>Wednesday</strong> or <strong>Thursday</strong>\, <strong>August 1st&nbsp\;or 2nd</strong>\,&nbsp\;from <strong>11:30 a.m. to 1:30 p.m.</strong> to meet them and for some light desserts.
LOCATION:RSVP Event Space 114 E. Amerige Ave. Fullerton\, CA 92832
UID:e.887.22594
SEQUENCE:3
DTSTAMP:20260422T091128Z
URL:https://business.nocchamber.com/events/details/rsvp-event-space-christmas-in-august-22594
END:VEVENT

END:VCALENDAR
