BEGIN:VCALENDAR
VERSION:2.0
PRODID:-//ChamberMaster//Event Calendar 2.0//EN
METHOD:PUBLISH
X-PUBLISHED-TTL:P3D
REFRESH-INTERVAL:P3D
CALSCALE:GREGORIAN
BEGIN:VEVENT
DTSTART:20190417T160000Z
DTEND:20190417T180000Z
X-MICROSOFT-CDO-ALLDAYEVENT:FALSE
SUMMARY:Round Table for Health Care Employers
DESCRIPTION:Health Care Roundtable:\n          What is the future of healthcare?\n\n          What are the trends impacting healthcare providers\n\n          How do we meet the needs of health sciences and medical technology industries?\n\n          How are healthcare providers finding qualified employees for available positions?
X-ALT-DESC;FMTTYPE=text/html:Health Care Roundtable:\n<p class="yiv9550281746msolistparagraph"><span style="font-family:Symbol\;\ncolor:black">&middot\;</span><span style="font-size:7.0pt\;font-family:&quot\;New&quot\;\,serif\;\ncolor:black">&nbsp\;&nbsp\;&nbsp\;&nbsp\;&nbsp\;&nbsp\;&nbsp\;&nbsp\; </span><span style="color:black">What is the future of healthcare?<o:p></o:p></span></p>\n\n<p class="yiv9550281746msolistparagraph"><span style="font-family:Symbol\;\ncolor:black">&middot\;</span><span style="font-size:7.0pt\;font-family:&quot\;New&quot\;\,serif\;\ncolor:black">&nbsp\;&nbsp\;&nbsp\;&nbsp\;&nbsp\;&nbsp\;&nbsp\;&nbsp\; </span><span style="color:black">What are the trends impacting healthcare providers<o:p></o:p></span></p>\n\n<p class="yiv9550281746msolistparagraph"><span style="font-family:Symbol\;\ncolor:black">&middot\;</span><span style="font-size:7.0pt\;font-family:&quot\;New&quot\;\,serif\;\ncolor:black">&nbsp\;&nbsp\;&nbsp\;&nbsp\;&nbsp\;&nbsp\;&nbsp\;&nbsp\; </span><span style="color:black">How do we meet the needs of health sciences and medical technology industries?<o:p></o:p></span></p>\n\n<p class="yiv9550281746msolistparagraph"><span style="font-family:Symbol\;\ncolor:black">&middot\;</span><span style="font-size:7.0pt\;font-family:&quot\;New&quot\;\,serif\;\ncolor:black">&nbsp\;&nbsp\;&nbsp\;&nbsp\;&nbsp\;&nbsp\;&nbsp\;&nbsp\; </span><span style="color:black">How are healthcare providers finding qualified employees for available positions?<o:p></o:p></span></p>\n
LOCATION:St. Jude Medical Plaza 2141 N. Harbor Blvd\, #3128 Fullerton\, CA 92835 (parking will be validated)
UID:e.887.23103
SEQUENCE:3
DTSTAMP:20260422T065545Z
URL:https://business.nocchamber.com/events/details/round-table-for-health-care-employers-23103
END:VEVENT

END:VCALENDAR
