BEGIN:VCALENDAR
VERSION:2.0
PRODID:-//ChamberMaster//Event Calendar 2.0//EN
METHOD:PUBLISH
X-PUBLISHED-TTL:P3D
REFRESH-INTERVAL:P3D
CALSCALE:GREGORIAN
BEGIN:VEVENT
DTSTART:20200130T160000Z
DTEND:20200130T210000Z
X-MICROSOFT-CDO-ALLDAYEVENT:FALSE
SUMMARY:Riverside: Export Trade Assistance Partnership-Global Business Opportunities for Small Businesses
DESCRIPTION:Selling American products and services overseas is both profitable and culturally rewarding for all companies that want to prosper in today's global marketplace.\n\n\n\nParticipate in an exclusive training program carefully designed to give business executives strategies\, insights\, and a ready network of contacts necessary to successfully expand sales globally. If you believe exporting could be part of your growth strategy\, these courses will provide you with the hands on tools and the latest information necessary to succeed. In addition\, through this course\, you will become informed about the effective finance and marketing assistance currently available through both state and federal agencies and walk away knowing precisely how to leverage these resources. \n\n\n\nJanuary 30th Session: Global Business Opportunities for Small Businesses\n\nParticipants will learn to utilize databases to determine best markets\, benefits of trade agreements\, classify a good and determine the duty rates for specific products\, export distribution considerations\, and locating foreign representatives and buyers. \n\n\n\nReceive a Certificate of Completion at the end of your last session.
X-ALT-DESC;FMTTYPE=text/html:Selling American products and services overseas is both profitable and culturally rewarding for all companies that want to prosper in today&#39\;s global marketplace.<br />\n<br />\nParticipate in an exclusive training program carefully designed to give business executives strategies\, insights\, and a ready network of contacts necessary to successfully expand sales globally. If you believe exporting could be part of your growth strategy\, these courses will provide you with the hands on tools and the latest information necessary to succeed. In addition\, through this course\, you will become informed about the effective finance and marketing assistance currently available through both state and federal agencies and walk away knowing precisely how to leverage these resources.&nbsp\;<br />\n<br />\nJanuary 30th Session: <u>Global Business Opportunities for Small Businesses</u><br />\nParticipants will learn to utilize databases to determine best markets\, benefits of trade agreements\, classify a good and determine the duty rates for specific products\, export distribution considerations\, and locating foreign representatives and buyers.&nbsp\;<br />\n<br />\nReceive a Certificate of Completion at the end of your last session.&nbsp\;
LOCATION:Rustin Conference Center 2085 Rustin Ave. Riverside\, CA 92507
UID:e.887.24062
SEQUENCE:3
DTSTAMP:20260421T191730Z
URL:https://business.nocchamber.com/events/details/riverside-export-trade-assistance-partnership-global-business-opportunities-for-small-businesses-24062
END:VEVENT

END:VCALENDAR
