BEGIN:VCALENDAR
VERSION:2.0
PRODID:-//ChamberMaster//Event Calendar 2.0//EN
METHOD:PUBLISH
X-PUBLISHED-TTL:P3D
REFRESH-INTERVAL:P3D
CALSCALE:GREGORIAN
BEGIN:VEVENT
DTSTART:20200206T160000Z
DTEND:20200206T210000Z
X-MICROSOFT-CDO-ALLDAYEVENT:FALSE
SUMMARY:Riverside: Export Trade Assistance Partnership-Cross Cultural Communication & E-Commerce
DESCRIPTION:Selling American products and services overseas is both profitable and culturally rewarding for all companies that want to prosper in today's global marketplace.\n\n\n\nParticipate in an exclusive training program carefully designed to give business executives strategies\, insights\, and a ready network of contacts necessary to successfully expand sales globally. If you believe exporting could be part of your growth strategy\, these courses will provide you with the hands on tools and the latest information necessary to succeed. In addition\, through this course\, you will become informed about the effective finance and marketing assistance currently available through both state and federal agencies and walk away knowing precisely how to leverage these resources. \n\n\n\nFebruary 6 Session: Cross Cultural Communication & E-Commerce\n\nThis course introduces strategies for identifying both similar and divergent cultural characteristics across different cultures\, and why they play an important role in global trade. Learn about how e-commerce has evolved in international trade and how your businesses can benefit from it for exporting. \n\n\n\nReceive a Certificate of Completion at the end of your last session.
X-ALT-DESC;FMTTYPE=text/html:Selling American products and services overseas is both profitable and culturally rewarding for all companies that want to prosper in today&#39\;s global marketplace.<br />\n<br />\nParticipate in an exclusive training program carefully designed to give business executives strategies\, insights\, and a ready network of contacts necessary to successfully expand sales globally. If you believe exporting could be part of your growth strategy\, these courses will provide you with the hands on tools and the latest information necessary to succeed. In addition\, through this course\, you will become informed about the effective finance and marketing assistance currently available through both state and federal agencies and walk away knowing precisely how to leverage these resources.&nbsp\;<br />\n<br />\nFebruary 6 Session: <u>Cross Cultural Communication &amp\; E-Commerce</u><br />\nThis course introduces strategies for identifying both similar and divergent cultural characteristics across different cultures\, and why they play an important role in global trade. Learn about how e-commerce has evolved in international trade and how your businesses can benefit from it for exporting.&nbsp\;<br />\n<br />\nReceive a Certificate of Completion at the end of your last session.&nbsp\;
LOCATION:Rustin Conference Center 2085 Rustin Ave. Riverside\, CA 92507
UID:e.887.24063
SEQUENCE:3
DTSTAMP:20260421T180713Z
URL:https://business.nocchamber.com/events/details/riverside-export-trade-assistance-partnership-cross-cultural-communication-e-commerce-24063
END:VEVENT

END:VCALENDAR
