BEGIN:VCALENDAR
VERSION:2.0
PRODID:-//ChamberMaster//Event Calendar 2.0//EN
METHOD:PUBLISH
X-PUBLISHED-TTL:P3D
REFRESH-INTERVAL:P3D
CALSCALE:GREGORIAN
BEGIN:VEVENT
DTSTART:20170601T180000Z
DTEND:20170601T190000Z
X-MICROSOFT-CDO-ALLDAYEVENT:FALSE
SUMMARY:Ribbon Cutting - Zzaam Fresh Korean Grill
DESCRIPTION:Join us for a ribbon cutting ceremony to celebrate the grand opening of Zzaam Fresh Korean Grill in Fullerton on Thursday\, June 1 at 11:00 a.m.
X-ALT-DESC;FMTTYPE=text/html:Join us for a ribbon cutting ceremony to celebrate the grand opening of&nbsp\;Zzaam Fresh Korean Grill in&nbsp\;Fullerton on&nbsp\;Thursday\,&nbsp\;June 1&nbsp\;at 11:00 a.m.
LOCATION:349 N. State College Blvd. Fullerton\, CA 92831
UID:e.887.16155
SEQUENCE:3
DTSTAMP:20260421T014802Z
URL:https://business.nocchamber.com/events/details/ribbon-cutting-zzaam-fresh-korean-grill-16155
END:VEVENT

END:VCALENDAR
