BEGIN:VCALENDAR
VERSION:2.0
PRODID:-//ChamberMaster//Event Calendar 2.0//EN
METHOD:PUBLISH
X-PUBLISHED-TTL:P3D
REFRESH-INTERVAL:P3D
CALSCALE:GREGORIAN
BEGIN:VEVENT
DTSTART:20170427T233000Z
DTEND:20170428T013000Z
X-MICROSOFT-CDO-ALLDAYEVENT:FALSE
SUMMARY:Ribbon Cutting - SoCal BNI
DESCRIPTION:Join us for a ribbon cutting ceremony to celebrate the grand opening of SoCal BNI on Thursday\, April 27 at 4:30 p.m.
X-ALT-DESC;FMTTYPE=text/html:Join us for a ribbon cutting ceremony to celebrate the grand opening of SoCal BNI on Thursday\, April 27 at 4:30 p.m.
LOCATION:SoCal BNI\, Inc. 8600 Beach Blvd.\, Suite 102 Buena Park\, CA 90620
UID:e.887.16040
SEQUENCE:3
DTSTAMP:20260421T114656Z
URL:https://business.nocchamber.com/events/details/ribbon-cutting-socal-bni-16040
END:VEVENT

END:VCALENDAR
