BEGIN:VCALENDAR
VERSION:2.0
PRODID:-//ChamberMaster//Event Calendar 2.0//EN
METHOD:PUBLISH
X-PUBLISHED-TTL:P3D
REFRESH-INTERVAL:P3D
CALSCALE:GREGORIAN
BEGIN:VEVENT
DTSTART:20170524T164500Z
DTEND:20170524T174500Z
X-MICROSOFT-CDO-ALLDAYEVENT:FALSE
SUMMARY:Ribbon Cutting - Pitch & Putt and Pickle Ball Court at Morningside of Fullerton
DESCRIPTION:Join us for a ribbon cutting ceremony to celebrate the grand opening of the Pitch & Putt and Pickle Ball Court at The Links at Morningside Fullerton on May 24 at 9:45 a.m.
X-ALT-DESC;FMTTYPE=text/html:<p>Join us for a ribbon cutting ceremony to celebrate the grand opening of the Pitch &amp\; Putt and Pickle Ball Court at The Links at Morningside Fullerton on&nbsp\;May 24 at 9:45 a.m.</p>\n
LOCATION:Morningside of Fullerton 800 Morningside Dr. Fullerton\, CA 92835
UID:e.887.16026
SEQUENCE:3
DTSTAMP:20260421T075922Z
URL:https://business.nocchamber.com/events/details/ribbon-cutting-pitch-putt-and-pickle-ball-court-at-morningside-of-fullerton-16026
END:VEVENT

END:VCALENDAR
