BEGIN:VCALENDAR
VERSION:2.0
PRODID:-//ChamberMaster//Event Calendar 2.0//EN
METHOD:PUBLISH
X-PUBLISHED-TTL:P3D
REFRESH-INTERVAL:P3D
CALSCALE:GREGORIAN
BEGIN:VEVENT
DTSTART:20170722T170000Z
DTEND:20170722T210000Z
X-MICROSOFT-CDO-ALLDAYEVENT:FALSE
SUMMARY:Ribbon Cutting - Good Shepherd Preschool
DESCRIPTION:Come celebrate the reopening of Good Shepard Preschool with an open house and ribbon cutting on Saturday\, July 22 from 10:00 a.m.   2:00 p.m.\n\nAttendees can tour the newly remolded rooms\, enjoy refreshments and games.\n\nEnrollment information for children ages 2-6 years old is available. Fill out a card or call the church office at 714-827-6021. Click here for more information.
X-ALT-DESC;FMTTYPE=text/html:<p>Come celebrate the reopening of Good Shepard Preschool with an open house and ribbon cutting on Saturday\, July 22 from 10:00 a.m. &ndash\; 2:00 p.m.</p>\n\n<p>Attendees can tour the newly remolded rooms\, enjoy refreshments and games.</p>\n\n<p>Enrollment information for children ages 2-6 years old is available. Fill out a card or call the church office at 714-827-6021. <a href="https://sites.google.com/site/gslcbp/home/preschool">Click here for more information</a>.</p>\n
LOCATION:Good Shepherd Preschool 7082 Crescent Ave. Buena Park\, CA 90620
UID:e.887.16250
SEQUENCE:3
DTSTAMP:20260421T014858Z
URL:https://business.nocchamber.com/events/details/ribbon-cutting-good-shepherd-preschool-16250
END:VEVENT

END:VCALENDAR
