BEGIN:VCALENDAR
VERSION:2.0
PRODID:-//ChamberMaster//Event Calendar 2.0//EN
METHOD:PUBLISH
X-PUBLISHED-TTL:P3D
REFRESH-INTERVAL:P3D
CALSCALE:GREGORIAN
BEGIN:VEVENT
DTSTART:20170429T170000Z
DTEND:20170429T173000Z
X-MICROSOFT-CDO-ALLDAYEVENT:FALSE
SUMMARY:Ribbon Cutting - Classic Rock Coffee
DESCRIPTION:Join us for a ribbon cutting ceremony to celebrate the grand opening of \n\nClassic Rock Coffee in Fullerton on Saturday\, April 29\, 2017.\n\n\n\nSchedule of Events:\n\n10:00 a.m. - 10:30 a.m. - Ribbon Cutting\n\n11:00 a.m. - 1:00 p.m. - Katie Thompson "Chick on the Street"\n\n 11:00 a.m. - 2:00 p.m. - The Sound Team from 100.3 The Sound (free giveaways)\n\n 12:00 p.m. - 3:00 p.m. Jeremy Benson Guitarist\n\n\n\n Present the flyer below to receive 20% off your purchase.
X-ALT-DESC;FMTTYPE=text/html:Join us for a ribbon cutting ceremony to celebrate the grand opening of&nbsp\;<br />\n<a href="http://classicrockcoffee.com/fullerton-ca/">Classic Rock Coffee</a> in Fullerton on Saturday\, April 29\, 2017.<br />\n<br />\nSchedule of Events:<br />\n10:00 a.m. - 10:30 a.m. - Ribbon Cutting<br />\n11:00 a.m. - 1:00 p.m. - Katie Thompson &quot\;Chick on the Street&quot\;<br />\n&#8203\;11:00 a.m. - 2:00 p.m. - The Sound Team from 100.3 The Sound (free giveaways)<br />\n&#8203\;12:00 p.m. - 3:00 p.m. Jeremy Benson Guitarist<br />\n<br />\n&#8203\;Present the flyer below&nbsp\;to receive&nbsp\;20% off your purchase.
LOCATION:Classic Rock Coffee 1015 N. Harbor Blvd. Fullerton\, CA 92832
UID:e.887.16036
SEQUENCE:3
DTSTAMP:20260421T114341Z
URL:https://business.nocchamber.com/events/details/ribbon-cutting-classic-rock-coffee-16036
END:VEVENT

END:VCALENDAR
