BEGIN:VCALENDAR
VERSION:2.0
PRODID:-//ChamberMaster//Event Calendar 2.0//EN
METHOD:PUBLISH
X-PUBLISHED-TTL:P3D
REFRESH-INTERVAL:P3D
CALSCALE:GREGORIAN
BEGIN:VEVENT
DTSTART:20180816T180000Z
DTEND:20180816T190000Z
X-MICROSOFT-CDO-ALLDAYEVENT:FALSE
SUMMARY:Ribbon Cutting Ceremony - Maria Dazo Allstate Insurance Agency
DESCRIPTION:Join us for a ribbon cutting ceremony to celebrate the grand opening of the renewed Maria Dazo Insurance Agency on Thursday\, August 16\, at 11:00 a.m. You'll enjoy refreshments and a raffle contest. Our beloved Maria Dazo passed away last November\, and we're honoring her legacy by continuing her outstanding Allstate service.
X-ALT-DESC;FMTTYPE=text/html:Join us for a ribbon cutting ceremony to celebrate the grand opening of the renewed Maria Dazo Insurance Agency on Thursday\, August 16\, at 11:00 a.m. You&#39\;ll enjoy refreshments and a raffle contest. Our beloved Maria Dazo passed away last November\, and we&#39\;re honoring her legacy by continuing her outstanding Allstate service.
LOCATION:8575 Knott Ave. Ste. B Buena Park\, CA 90620
UID:e.887.22588
SEQUENCE:3
DTSTAMP:20260422T091455Z
URL:https://business.nocchamber.com/events/details/ribbon-cutting-ceremony-maria-dazo-insurance-agency-22588
END:VEVENT

END:VCALENDAR
