BEGIN:VCALENDAR
VERSION:2.0
PRODID:-//ChamberMaster//Event Calendar 2.0//EN
METHOD:PUBLISH
X-PUBLISHED-TTL:P3D
REFRESH-INTERVAL:P3D
CALSCALE:GREGORIAN
BEGIN:VEVENT
DTSTART:20180810T210000Z
DTEND:20180810T220000Z
X-MICROSOFT-CDO-ALLDAYEVENT:FALSE
SUMMARY:Ribbon Cutting Ceremony- GK Media and Marketing
DESCRIPTION:Join us for a ribbon cutting ceremony to celebrate the grand opening of GK Media and Marketing on Friday\, August 10\, at 2:00 p.m.
X-ALT-DESC;FMTTYPE=text/html:Join us for a ribbon cutting ceremony to celebrate the grand opening of GK Media and Marketing on Friday\, August 10\, at 2:00 p.m.
LOCATION:600 N. Jefferson St.\, Unit A Placentia\, CA 92870
UID:e.887.22587
SEQUENCE:3
DTSTAMP:20260422T091516Z
URL:https://business.nocchamber.com/events/details/ribbon-cutting-ceremony-gk-media-and-marketing-22587
END:VEVENT

END:VCALENDAR
