BEGIN:VCALENDAR
VERSION:2.0
PRODID:-//ChamberMaster//Event Calendar 2.0//EN
METHOD:PUBLISH
X-PUBLISHED-TTL:P3D
REFRESH-INTERVAL:P3D
CALSCALE:GREGORIAN
BEGIN:VEVENT
DTSTART:20191009T210000Z
DTEND:20191009T220000Z
X-MICROSOFT-CDO-ALLDAYEVENT:FALSE
SUMMARY:ResourceMFG | Select Staffing Ribbon Cutting
DESCRIPTION:Join us for the official grand opening and ribbon cutting ceremony to celebrate the opening of ResourceMFG | Select Staffing in Buena Park.
X-ALT-DESC;FMTTYPE=text/html:<p>Join us for the official grand opening and ribbon cutting ceremony to celebrate the opening of&nbsp\;<a href="https://www.resourcemfg.com/" target="_blank">ResourceMFG | Select Staffing</a> in Buena Park.</p>\n\n<div id="mn-pagetitle">\n<div>&nbsp\;</div>\n</div>\n
LOCATION:6131 Orangethorpe Ave.\, Suite 120 Buena Park\, CA 90620
UID:e.887.23699
SEQUENCE:3
DTSTAMP:20260421T225823Z
URL:https://business.nocchamber.com/events/details/resourcemfg-select-staffing-ribbon-cutting-23699
END:VEVENT

END:VCALENDAR
