BEGIN:VCALENDAR
VERSION:2.0
PRODID:-//ChamberMaster//Event Calendar 2.0//EN
METHOD:PUBLISH
X-PUBLISHED-TTL:P3D
REFRESH-INTERVAL:P3D
CALSCALE:GREGORIAN
BEGIN:VEVENT
DTSTART:20191212T003000Z
DTEND:20191212T023000Z
X-MICROSOFT-CDO-ALLDAYEVENT:FALSE
SUMMARY:RESCHEDULED - La Palma - Holiday Tree Lighting Ceremony
DESCRIPTION:The City of La Palma is hosting its 33rd Annual Holiday Tree Lighting Ceremony. \n\n	4:00 p.m.   5:30 p.m.: Holiday crafts and an early visit from Santa Claus\n	5:30 p.m.: Tree Lighting Ceremony with musical performances from La Palma school students \n\nThe community is also encouraged to bring new\, unwrapped toys for the "Toys for Tots" program. The toy collection drive is going on through Friday\, December 11.  \n\n\n\nThe City of La Palma thanks EDCO Park Disposal for their sponsorship of this event.\n\n\n\nFor further information\, visit www.cityoflapalma.org/treelighting or call the Community Services Department at (714) 690-3350.
X-ALT-DESC;FMTTYPE=text/html:<span style="color:#333333\;"><span style="font-family:arial\,sans-serif\;"><span style="font-size:10.0pt\;">The City of La Palma is hosting its 33rd Annual Holiday Tree Lighting Ceremony.&nbsp\;</span></span></span>\n<ul>\n	<li style="color:#333333\;"><span style="font-family:arial\,sans-serif\;"><span style="font-size:10.0pt\;">4:00 p.m. &ndash\; 5:30 p.m.: Holiday crafts and an early visit from Santa Claus</span></span></li>\n	<li style="color:#333333\;"><span style="font-family:arial\,sans-serif\;"><span style="font-size:10.0pt\;">5:30 p.m.: Tree Lighting Ceremony with musical performances from La Palma school students </span></span></li>\n</ul>\n<span style="color:#333333\;"><span style="font-family:arial\,sans-serif\;"><span style="font-size:10.0pt\;">The community is also encouraged to bring new\, unwrapped toys for the &ldquo\;Toys for Tots&rdquo\; program. The toy collection drive is going on through Friday\, December 11.&nbsp\;&nbsp\;</span></span></span><br />\n<br />\n<span style="color:#333333\;"><span style="font-family:arial\,sans-serif\;"><span style="font-size:10.0pt\;">The City of La Palma thanks EDCO Park Disposal for their sponsorship of this event.</span></span></span><br />\n<br />\n<span style="color:#333333\;"><span style="font-family:arial\,sans-serif\;"><span style="font-size:10.0pt\;">For further information\, visit <a href="http://www.cityoflapalma.org/treelighting">www.cityoflapalma.org/treelighting</a> or call the Community Services Department at (714) 690-3350. </span></span></span>
LOCATION:Central Park Pavilion 7821 Walker Street La Palma\, CA 90623
UID:e.887.23840
SEQUENCE:3
DTSTAMP:20260421T202728Z
URL:https://business.nocchamber.com/events/details/rescheduled-la-palma-holiday-tree-lighting-ceremony-23840
END:VEVENT

END:VCALENDAR
