BEGIN:VCALENDAR
VERSION:2.0
PRODID:-//ChamberMaster//Event Calendar 2.0//EN
METHOD:PUBLISH
X-PUBLISHED-TTL:P3D
REFRESH-INTERVAL:P3D
CALSCALE:GREGORIAN
BEGIN:VEVENT
DTSTART:20200416T013000Z
DTEND:20200416T023000Z
X-MICROSOFT-CDO-ALLDAYEVENT:FALSE
SUMMARY:Rep. Cisneros Coronavirus Telephone Town Hall
DESCRIPTION:Representative Gilbert R. Cisneros\, Jr. (CA-39) will host a Telephone Town Hall TODAY\, Wednesday\, April 15 at 6:30 PM PT to provide a federal update and answer questions about the coronavirus. California 39th residents can RSVP and submit questions here.\nWho: Rep. Gilbert R. Cisneros\, Jr. (CA-39)\n\nWhat: Coronavirus Telephone Town Hall\n\nWhen: April 15 starting at 6:30 p.m.\n\nWhere: Dial-in: (833) 380-0509\; It will also be streamed on Rep. Cisneros' Facebook and website: www.cisneros.house.gov
X-ALT-DESC;FMTTYPE=text/html:Representative Gilbert R. Cisneros\, Jr. (CA-39) will host a Telephone Town Hall&nbsp\;TODAY\, Wednesday\, April 15 at 6:30 PM PT&nbsp\;to provide a federal update and answer questions about the coronavirus. California 39th residents can RSVP and submit questions&nbsp\;<a data-auth="NotApplicable" href="https://docs.google.com/forms/d/e/1FAIpQLSdqKbVFGdh4vFK_UTZRiBHYBrVwSPnZloPaAKJdnReQ2HGkOA/viewform?usp=sf_link" rel="noopener noreferrer" target="_blank">here</a>.\n<p font-size:="" helvetica="" margin:="" segoe="" ui="" web="" west=""><strong>Who:</strong>&nbsp\;Rep. Gilbert R. Cisneros\, Jr. (CA-39)</p>\n\n<p font-size:="" helvetica="" margin:="" segoe="" ui="" web="" west=""><strong>What:</strong>&nbsp\;Coronavirus Telephone Town Hall</p>\n\n<p font-size:="" helvetica="" margin:="" segoe="" ui="" web="" west=""><strong>When:</strong>&nbsp\;April 15 starting at 6:30 p.m.</p>\n\n<p font-size:="" helvetica="" margin:="" segoe="" ui="" web="" west=""><strong>Where:</strong>&nbsp\;Dial-in: (833) 380-0509\; It will also be streamed on Rep. Cisneros&rsquo\;&nbsp\;<a data-auth="NotApplicable" href="https://www.facebook.com/RepGilCisneros/" rel="noopener noreferrer" target="_blank">Facebook</a>&nbsp\;and website:&nbsp\;<a data-auth="NotApplicable" href="http://www.cisneros.house.gov/" rel="noopener noreferrer" target="_blank">www.cisneros.house.gov</a></p>\n
LOCATION:Dial-in: (833) 380-0509\; It will also be streamed on Rep. Cisneros' Facebook and website: www.cisneros.house.gov
UID:e.887.24288
SEQUENCE:3
DTSTAMP:20260421T153409Z
URL:https://business.nocchamber.com/events/details/rep-cisneros-coronavirus-telephone-town-hall-24288
END:VEVENT

END:VCALENDAR
