BEGIN:VCALENDAR
VERSION:2.0
PRODID:-//ChamberMaster//Event Calendar 2.0//EN
METHOD:PUBLISH
X-PUBLISHED-TTL:P3D
REFRESH-INTERVAL:P3D
CALSCALE:GREGORIAN
BEGIN:VEVENT
DTSTART:20200606T170000Z
DTEND:20200606T200000Z
X-MICROSOFT-CDO-ALLDAYEVENT:FALSE
SUMMARY:Relay For Life Northwest Orange County
DESCRIPTION:Although the in-person event has been cancelled for Saturday\, June 6\, 2020\, the event is being held virtually on Facebook. The event will start 10 a.m. and continue until 1 p.m. \n\nThis will be an opportunity to Celebrate\, Remember and Fight Back. There will be online games and other opportunities to participate by uploading pictures and posts. To participate\, visit: www.FaceBook.com/RFLNowOC/.\n\nVirtual Relay Event - June 6\, 2020 Agenda\n\n10:00 AM:   Opening Ceremony\n\n\n	Team Captains & Teams announced\n	Sponsors announced \n	Call to action: Post pictures of yourself or your Team\n\n\n 10:15 AM:  Survivor Celebration.\n\n\n	Cancer speaker & performance by Sage  \n	Call to Action: Survivors to Post pictures & message\n\n\n 10:30 AM:  Give Cancer the Book Photo Contest\n\n\n	Post a picture by 12:00 PM of you in your best Western attire \n	Prize for best attire to be announce at closing ceremony \n\n\n 10:45 AM:  ACS Video\, Speaker Jeff Ross  \n\n 11:00 AM:  Relay Jail Fundraiser   There's a new Sheriff in town and it's you!\n\n\n	Donate $10 to put a participant in "Relay Jail"\n	Then post or send a message to that participant that they need to post $25 Bail (to be raised in donations) before post is removed\n	Image will be available on Facebook page\n\n\n11:15 AM:   ACS Video \n\n 11:30 AM:   Scavenger Hunt   Rules & Items posted on FB\n\n\n	Take a picture of all items and be 1 of the first 5 to post on our Facebook page to win a prize   post by 12:45 PM. Winners announced at closing ceremony \n\n\n 12:00 PM:   Performance\n\n 12:15 PM:   Relay / ACS Trivia\n\n\n	Trivia Questions Posted on Facebook\n	Send answers to David Dunn at by 12:45 pm for a chance to been in a drawing to win   ACS Tote Bag\n	Winner announced at closing ceremony\n\n\n 12:30 PM:   Luminaria Ceremony\n\n\n	 Luminaria slide show\n	Call to Action: Post Luminaria bags\n\n\n 1:00 PM:     Closing Ceremony\n\n\n	Themed Photo Contest\, Scavenger Hunt & Trivia winners announced\n\n\n\nRelay For Life is a grass roots\, community-based team event. Many communities come together for Relay and have one common goal - to lead in the fight against cancer. For more information and to join the fight against cancer visit www.relayforlife.org/NoWca. Funds raised through Relay for Life support the American Cancer Society's effort to make this cancers last century.
X-ALT-DESC;FMTTYPE=text/html:<p><span style="font-size:12px\;">Although the in-person event has been cancelled for Saturday\, June 6\, 2020\, the event is being held virtually on Facebook. The event will start 10 a.m. and continue until 1 p.m.&nbsp\;</span></p>\n\n<p><span style="font-size:12px\;">This will be an opportunity to Celebrate\, Remember and Fight Back. There will be online games and other opportunities to participate by uploading pictures and posts. To participate\, visit:&nbsp\;<a aria-label="www.FaceBook.com/RFLNowOC/ Opens in new window" href="https://www.facebook.com/RFLNowOC/" rel="noopener" target="_blank">www.FaceBook.com/RFLNowOC/</a>.</span></p>\n\n<p><strong><span style="font-size:12px\;">Virtual Relay Event - June 6\, 2020 Agenda</span></strong></p>\n\n<p><span style="font-size:12px\;">10:00 AM: &nbsp\; Opening Ceremony</span></p>\n\n<ul>\n	<li><span style="font-size:12px\;">Team Captains &amp\; Teams announced</span></li>\n	<li><span style="font-size:12px\;">Sponsors announced&nbsp\;</span></li>\n	<li><span style="font-size:12px\;">Call to action: Post pictures of yourself or your Team</span></li>\n</ul>\n\n<p><span style="font-size:12px\;">&nbsp\;10:15 AM: &nbsp\;Survivor Celebration.</span></p>\n\n<ul>\n	<li><span style="font-size:12px\;">Cancer speaker &amp\; performance by Sage &nbsp\;</span></li>\n	<li><span style="font-size:12px\;">Call to Action: Survivors to Post pictures &amp\; message</span></li>\n</ul>\n\n<p><span style="font-size:12px\;">&nbsp\;10:30 AM: &nbsp\;Give Cancer the Book Photo Contest</span></p>\n\n<ul>\n	<li><span style="font-size:12px\;">Post a picture by 12:00 PM of you in your best Western attire&nbsp\;</span></li>\n	<li><span style="font-size:12px\;">Prize for best attire to be announce at closing ceremony&nbsp\;</span></li>\n</ul>\n\n<p><span style="font-size:12px\;">&nbsp\;10:45 AM: &nbsp\;ACS Video\, Speaker Jeff Ross &nbsp\;</span></p>\n\n<p><span style="font-size:12px\;">&nbsp\;11:00 AM: &nbsp\;Relay Jail Fundraiser &ndash\; There&rsquo\;s a new Sheriff in town and it&rsquo\;s you!</span></p>\n\n<ul>\n	<li><span style="font-size:12px\;">Donate $10 to put a participant in &quot\;Relay Jail&quot\;</span></li>\n	<li><span style="font-size:12px\;">Then post or send a message to that participant that they need to post $25 Bail (to be raised in donations) before post is removed</span></li>\n	<li><span style="font-size:12px\;">Image will be available on Facebook page</span></li>\n</ul>\n\n<p><span style="font-size:12px\;">11:15 AM: &nbsp\; ACS Video&nbsp\;</span></p>\n\n<p><span style="font-size:12px\;">&nbsp\;11:30 AM: &nbsp\; Scavenger Hunt &ndash\; Rules &amp\; Items posted on FB</span></p>\n\n<ul>\n	<li><span style="font-size:12px\;">Take a picture of all items and be 1 of the first 5 to post on our Facebook page to win a prize &ndash\; post by 12:45 PM. Winners announced at closing ceremony&nbsp\;</span></li>\n</ul>\n\n<p><span style="font-size:12px\;">&nbsp\;12:00 PM: &nbsp\; Performance</span></p>\n\n<p><span style="font-size:12px\;">&nbsp\;12:15 PM: &nbsp\; Relay / ACS Trivia</span></p>\n\n<ul>\n	<li><span style="font-size:12px\;">Trivia Questions Posted on Facebook</span></li>\n	<li><span style="font-size:12px\;">Send answers to David Dunn at by 12:45 pm for a chance to been in a drawing to win &ndash\; ACS Tote Bag</span></li>\n	<li><span style="font-size:12px\;">Winner announced at closing ceremony</span></li>\n</ul>\n\n<p><span style="font-size:12px\;">&nbsp\;12:30 PM: &nbsp\; Luminaria Ceremony</span></p>\n\n<ul>\n	<li><span style="font-size:12px\;">&nbsp\;Luminaria slide show</span></li>\n	<li><span style="font-size:12px\;">Call to Action: Post Luminaria bags</span></li>\n</ul>\n\n<p><span style="font-size:12px\;">&nbsp\;1:00 PM: &nbsp\; &nbsp\; Closing Ceremony</span></p>\n\n<ul>\n	<li><span style="font-size:12px\;">Themed Photo Contest\, Scavenger Hunt &amp\; Trivia winners announced</span></li>\n</ul>\n<br />\n<span style="font-size:12px\;">Relay For Life is a grass roots\, community-based team event. Many communities come together for Relay and have one common goal - to lead in the fight against cancer. For more information and to join the fight against cancer visit&nbsp\;<a aria-label="www.relayforlife.org/NoWca Opens in new window" href="http://www.relayforlife.org/NoWca" rel="noopener" target="_blank">www.relayforlife.org/NoWca</a>. Funds raised through Relay for Life support the American Cancer Society&rsquo\;s effort to make this cancers last century.</span>
LOCATION:Virtual
UID:e.887.24396
SEQUENCE:3
DTSTAMP:20260421T132134Z
URL:https://business.nocchamber.com/events/details/relay-for-life-northwest-orange-county-24396
END:VEVENT

END:VCALENDAR
