BEGIN:VCALENDAR
VERSION:2.0
PRODID:-//ChamberMaster//Event Calendar 2.0//EN
METHOD:PUBLISH
X-PUBLISHED-TTL:P3D
REFRESH-INTERVAL:P3D
CALSCALE:GREGORIAN
BEGIN:VEVENT
DTSTART:20180803T003000Z
DTEND:20180803T023000Z
X-MICROSOFT-CDO-ALLDAYEVENT:FALSE
SUMMARY:Reception Honoring Elected Officials
DESCRIPTION:The North Orange County Chamber cordially invites you to join business and civic leaders at a reception honoring those elected to serve our community.\n\n\n\nSponsored by SoCal Gas\, Metropolitan Water District\, Rowntree Gardens\, Communications Lab\, Crittenton Services for Children & Families\, OC Elder Law and Townsend Public Affairs.
X-ALT-DESC;FMTTYPE=text/html:<span style="background:white\;"><span style="color:#333333\;"><span style="font-family:arial\,sans-serif\;"><span style="font-size:10.0pt\;">The North Orange County Chamber cordially invites you to join business and civic leaders at a reception honoring those elected to serve our community.</span></span></span></span><br style="font-variant-ligatures:normal\;font-variant-caps:normal\;orphans:2\;text-align:start\;widows:2\;-webkit-text-stroke-width:0px\;text-decoration-style:initial\;word-spacing:0px\;" />\n<br style="font-variant-ligatures:normal\;font-variant-caps:normal\;orphans:2\;text-align:start\;widows:2\;-webkit-text-stroke-width:0px\;text-decoration-style:initial\;word-spacing:0px\;" />\n<span style="background-image:initial\;background-position:initial\;background-size:initial\;background-repeat:initial\;background-attachment:initial\;background-origin:initial\;background-clip:initial\;"><span style="font-family:arial\,sans-serif\;"><span style="font-size:10pt\;">Sponsored by&nbsp\;</span></span></span><a href="https://www.socalgas.com/" target="_blank"><span data-scayt-word="SoCal" data-wsc-lang="en_US" style="background-position:50% 100%\;">SoCal</span></a><a href="https://www.socalgas.com/" target="_blank">&nbsp\;Gas</a>\,&nbsp\;<a href="http://www.mwdh2o.com/" target="_blank">Metropolitan Water District</a>\, <a href="https://rowntreegardens.org/" target="_blank">Rowntree Gardens</a>\, <a href="https://www.communicationslab.com/" target="_blank">Communications Lab</a>\, <a href="https://www.crittentonsocal.org/" target="_blank">Crittenton Services for Children &amp\; Families</a>\, <a href="http://www.ocelderlaw.com/" target="_blank">OC Elder Law</a> and <span style="background-image:initial\;background-position:initial\;background-size:initial\;background-repeat:initial\;background-attachment:initial\;background-origin:initial\;background-clip:initial\;"><span style="font-family:arial\,sans-serif\;"><span style="font-size:10pt\;"><a href="https://www.townsendpa.com/" target="_blank">Townsend Public Affairs</a>.</span></span></span>
LOCATION:FLDWRK Fullerton 110 E Wilshire Ave.\, #101 Fullerton\, CA 92832
UID:e.887.21407
SEQUENCE:3
DTSTAMP:20260422T090043Z
URL:https://business.nocchamber.com/events/details/reception-honoring-elected-officials-21407
END:VEVENT

END:VCALENDAR
