BEGIN:VCALENDAR
VERSION:2.0
PRODID:-//ChamberMaster//Event Calendar 2.0//EN
METHOD:PUBLISH
X-PUBLISHED-TTL:P3D
REFRESH-INTERVAL:P3D
CALSCALE:GREGORIAN
BEGIN:VEVENT
DTSTART:20200212T020000Z
DTEND:20200212T044500Z
X-MICROSOFT-CDO-ALLDAYEVENT:FALSE
SUMMARY:Rancho Santa Margarita: SCORE Workshop - Pricing\, Costing\, Breakeven and Financial Performance Measurements
DESCRIPTION:SCORE is hosting a workshop on pricing\, costing\, break-even and financial performance measurements for non-financial owners and managers. The workshop is designed for entrepreneurs who are preparing business plans or financial projections. Information from the workshop is also helpful for people who want a more thorough understanding of pricing strategy.\n\n\n\nJim Chamberlain of SCORE will be presenting the workshop. Jim has an MBA and is a CMA (Certified Management Accountant).
X-ALT-DESC;FMTTYPE=text/html:SCORE is hosting a workshop on pricing\, costing\, break-even and financial performance measurements for non-financial owners and managers. The workshop is designed for entrepreneurs who are preparing business plans or financial projections. Information from the workshop is also helpful for people who want a more thorough understanding of pricing strategy.<br />\n<br />\nJim Chamberlain of SCORE will be presenting the workshop. Jim has an MBA and is a CMA (Certified Management Accountant).&nbsp\;
LOCATION:Rancho Santa Margarita Bell Tower Community Center 22232 El Paseo Rancho Santa Margarita\, CA 92688
UID:e.887.24102
SEQUENCE:3
DTSTAMP:20260421T181150Z
URL:https://business.nocchamber.com/events/details/rancho-santa-margarita-score-workshop-pricing-costing-breakeven-and-financial-performance-measurements-24102
END:VEVENT

END:VCALENDAR
