BEGIN:VCALENDAR
VERSION:2.0
PRODID:-//ChamberMaster//Event Calendar 2.0//EN
METHOD:PUBLISH
X-PUBLISHED-TTL:P3D
REFRESH-INTERVAL:P3D
CALSCALE:GREGORIAN
BEGIN:VEVENT
DTSTART;VALUE=DATE:20190327
DTEND;VALUE=DATE:20190328
TRANSP:TRANSPARENT
X-MICROSOFT-CDO-ALLDAYEVENT:TRUE
SUMMARY:Ramp Up Your Exports - Five Things To Know About International Trade
DESCRIPTION:This workshop will cover all the essentials of exporting to help save time and prevent companies from making costly mistakes along the way. It will also provide strategies to help increase your international sales. The following topics will be covered to provide structure to your international department:\n\n\n\n-Qualifying International Customers & Communication Methods\n\n-Product\, International Price & INCOTERMS\n\n-Methods of Payment\n\n-International Sales Agreements\n\n-Export Compliance Requirements and many more.
X-ALT-DESC;FMTTYPE=text/html:This workshop will cover all the essentials of exporting to help save time and prevent companies from making costly mistakes along the way. It will also provide strategies to help increase your international sales. The following topics will be covered to provide structure to your international department:<br />\n<br />\n-Qualifying International Customers &amp\; Communication Methods<br />\n-Product\, International Price &amp\; INCOTERMS<br />\n-Methods of Payment<br />\n-International Sales Agreements<br />\n-Export Compliance Requirements and many more.
LOCATION:Digital Media Center 1300 S. Bristol St.\, Room 103 Santa Ana\, CA 92704
UID:e.887.23102
SEQUENCE:3
DTSTAMP:20260422T091516Z
URL:https://business.nocchamber.com/events/details/ramp-up-your-exports-five-things-to-know-about-international-trade-23102
END:VEVENT

END:VCALENDAR
