BEGIN:VCALENDAR
VERSION:2.0
PRODID:-//ChamberMaster//Event Calendar 2.0//EN
METHOD:PUBLISH
X-PUBLISHED-TTL:P3D
REFRESH-INTERVAL:P3D
CALSCALE:GREGORIAN
BEGIN:VEVENT
DTSTART:20191024T190000Z
DTEND:20191024T210000Z
X-MICROSOFT-CDO-ALLDAYEVENT:FALSE
SUMMARY:RAI Wealth Management - Client Appreciation and Education Lunch Event
DESCRIPTION:Please join RAI Wealth Management for its annual Client Appreciation and Education Lunch Event on October 24\, 2019 at 12:00 p.m. at the Alta Vista Country Club.\n\n\n\nHear current insights on the global economy\, financial markets\, geopolitical environment and other issues affecting the markets.\n\n\n\nYou are welcome to bring guests who could benefit from our presentation. Please be aware that seating is limited.\n\n\n\nPlease RSVP by October 8th by sending an email to info@raiwm.com or by phone at (714) 449-9696. \n\n\n\nFor any questions or comments\, please email info@raiwm.com or call (714) 449-9696.
X-ALT-DESC;FMTTYPE=text/html:Please join RAI Wealth Management for its annual Client Appreciation and Education Lunch Event on October 24\, 2019 at 12:00 p.m. at the Alta Vista Country Club.<br />\n<br />\nHear current insights on the global economy\, financial markets\, geopolitical environment and other issues affecting the markets.<br />\n<br />\nYou are welcome to bring guests who could benefit from our presentation. Please be aware that seating is limited.<br />\n<br />\nPlease RSVP by October 8th by sending an email to info@raiwm.com or by phone at (714) 449-9696.&nbsp\;<br />\n<br />\nFor&nbsp\;any questions or comments\, please email info@raiwm.com or call (714) 449-9696.
LOCATION:Alta Vista Country Club 777 E. Alta Vista St. Placentia\, CA 92870
UID:e.887.23717
SEQUENCE:3
DTSTAMP:20260421T231019Z
URL:https://business.nocchamber.com/events/details/rai-wealth-management-client-appreciation-and-education-lunch-event-23717
END:VEVENT

END:VCALENDAR
