BEGIN:VCALENDAR
VERSION:2.0
PRODID:-//ChamberMaster//Event Calendar 2.0//EN
METHOD:PUBLISH
X-PUBLISHED-TTL:P3D
REFRESH-INTERVAL:P3D
CALSCALE:GREGORIAN
BEGIN:VEVENT
DTSTART:20191026T133000Z
DTEND:20191026T170000Z
X-MICROSOFT-CDO-ALLDAYEVENT:FALSE
SUMMARY:Pumpkin Run 5k
DESCRIPTION:An exciting family-friendly\, costume run on the Fullerton Trails! Awards will be given\, and there will be food\, music\, and games after the race to enjoy. All runners receive a free t-shirt. \n\n\n\nPlease also consider donating a children's book to assist in book donations for underprivileged families.
X-ALT-DESC;FMTTYPE=text/html:An exciting family-friendly\, costume run on the Fullerton Trails! Awards will be given\, and there will be food\, music\, and games after the race to enjoy. All runners receive a free t-shirt.&nbsp\;<br />\n<br />\nPlease also consider donating a children&#39\;s book to assist in book donations for underprivileged families.
LOCATION:1275 N. Berkeley Ave. Fullerton\, CA\, 92832
UID:e.887.23741
SEQUENCE:3
DTSTAMP:20260421T225230Z
URL:https://business.nocchamber.com/events/details/pumpkin-run-5k-23741
END:VEVENT

END:VCALENDAR
