BEGIN:VCALENDAR
VERSION:2.0
PRODID:-//ChamberMaster//Event Calendar 2.0//EN
METHOD:PUBLISH
X-PUBLISHED-TTL:P3D
REFRESH-INTERVAL:P3D
CALSCALE:GREGORIAN
BEGIN:VEVENT
DTSTART:20190405T180000Z
DTEND:20190405T190000Z
X-MICROSOFT-CDO-ALLDAYEVENT:FALSE
SUMMARY:Protein Lab at The Source OC Ribbon Cutting
DESCRIPTION:Join us for a ribbon cutting ceremony to celebrate the grand opening of Protein Lab at The Source OC in Buena Park on Friday\, April 5\, at 11:00 a.m.
X-ALT-DESC;FMTTYPE=text/html:<span style="color: rgb(68\, 68\, 68)\; font-family: Arial\, Helvetica\, sans-serif\; font-size: 14px\;">Join us for a ribbon cutting ceremony to celebrate the grand opening of&nbsp\;<a href="https://www.thesourceoc.com/proteinlab" target="_blank">Protein Lab</a> at The Source&nbsp\;OC in Buena Park</span><span style="color: rgb(68\, 68\, 68)\; font-family: Arial\, Helvetica\, sans-serif\; font-size: 14px\;">&nbsp\;on Friday\, April 5\, at 11:00 a.m.</span>
LOCATION:The Source OC (Level 2) 6940 Beach Blvd.\, Suite J-202 Buena Park\, CA 90621
UID:e.887.23099
SEQUENCE:3
DTSTAMP:20260422T065351Z
URL:https://business.nocchamber.com/events/details/protein-lab-at-the-source-oc-ribbon-cutting-23099
END:VEVENT

END:VCALENDAR
