BEGIN:VCALENDAR
VERSION:2.0
PRODID:-//ChamberMaster//Event Calendar 2.0//EN
METHOD:PUBLISH
X-PUBLISHED-TTL:P3D
REFRESH-INTERVAL:P3D
CALSCALE:GREGORIAN
BEGIN:VEVENT
DTSTART:20190831T170000Z
DTEND:20190831T190000Z
X-MICROSOFT-CDO-ALLDAYEVENT:FALSE
SUMMARY:Private Sneakers Grand Opening
DESCRIPTION:Private Sneakers is celebrating its Grand Opening on Saturday\, August 31\, 2019 at 10:00 a.m. at 1340 E. Chapman Ave.\, Fullerton\, CA 92831.\n\n\n\nJoin them for a surprise release of:\n\n	JORDAN 1 WMNS OG SATIN BLK TOE\n	JORDAN 1 MENS RETRO HIGH OBSIDIAN UNC\n\nThe first seven customers with Fullerton ID will have priority.\n\n\n\n\n\nPrivate is a unique trend setting store\, rooted in the heart of Southern California bringing customers the highest quality products. Private carries unique brands\, while having classic innovators as well. They also focus on Limited Editions\, Exclusive\, and Quick Strike sneaker releases. The clothing selection is widely diverse\, distributing the latest street wear brands in the US\, while having a strong local brand presence.
X-ALT-DESC;FMTTYPE=text/html:Private Sneakers is celebrating its Grand Opening on Saturday\, August 31\, 2019 at 10:00 a.m. at 1340 E. Chapman Ave.\, Fullerton\, CA 92831.<br />\n<br />\nJoin them for a surprise release of:\n<ul>\n	<li>JORDAN 1 WMNS OG SATIN BLK TOE</li>\n	<li>JORDAN 1 MENS RETRO HIGH OBSIDIAN UNC</li>\n</ul>\nThe first seven customers with Fullerton ID will have priority.<br />\n<br />\n<br />\nPrivate is a unique trend setting store\, rooted in the heart of Southern California bringing customers the highest quality products. Private carries unique brands\, while having classic innovators as well. They also focus on Limited Editions\, Exclusive\, and Quick Strike sneaker releases. The clothing selection is widely diverse\, distributing the latest street wear brands in the US\, while having a strong local brand presence.
LOCATION:1340 E. Chapman Ave. Fullerton\, CA 92831
UID:e.887.23685
SEQUENCE:3
DTSTAMP:20260422T015318Z
URL:https://business.nocchamber.com/events/details/private-sneakers-grand-opening-23685
END:VEVENT

END:VCALENDAR
