BEGIN:VCALENDAR
VERSION:2.0
PRODID:-//ChamberMaster//Event Calendar 2.0//EN
METHOD:PUBLISH
X-PUBLISHED-TTL:P3D
REFRESH-INTERVAL:P3D
CALSCALE:GREGORIAN
BEGIN:VEVENT
DTSTART:20200312T163000Z
DTEND:20200312T210000Z
X-MICROSOFT-CDO-ALLDAYEVENT:FALSE
SUMMARY:POSTPONED- SHE Influences Conference 2020
DESCRIPTION:March 11\, 2020\n\n \n\nToday\, the World Health Organization declared a Pandemic as it relates to the COVID-19 (Corona Virus). As we continue to monitor developments and consider North Orange County Chamber's response and contingency plans in the context of the coronavirus developments\, our priority is the safety of our employees and members as well as ensuring our ability to continue to serve the community needs.\n\n \n\nAt this time\, we have made the decision to postpone the SHE Influences Conference to a later date to be determined. Please assist us by notifying your attendees.\n\n \n\nWe are sensitive to the evolving situation and will work with all parties involved to address individual concerns. In the meantime\, should you have questions please contact me at the contact information below.\n\n \n\nBelow is a list of resources focused on personal and office best practices.\n\n \n\nhttps://www.who.int/emergencies/diseases/novel-coronavirus-2019\n\n \n\nhttps://www.cdc.gov/coronavirus/2019-nCoV/index.html\n\n \n\nhttps://advocacy.calchamber.com/coronavirus-covid-19/\n\n \n\nThank you for your understanding and continued support.\n\n\n\nTheresa Harvey\n\nPresident & CEO\n\nNorth Orange County Chamber\n\n714-871-3100\n\ntharvey@nocchamber.com\n\n \n\nOUR NEW ADDRESS IS:\n\n100 W. Valencia Mesa Dr.\, #250\n\nFullerton\, CA 92835\n\nIn the Century 21 Discovery building
X-ALT-DESC;FMTTYPE=text/html:March 11\, 2020<br />\n&nbsp\;<br />\nToday\, the World Health Organization declared a Pandemic as it relates to the COVID-19 (Corona Virus). As we continue to monitor developments and consider North Orange County Chamber&rsquo\;s response and contingency plans in the context of the coronavirus developments\, our priority is the safety of our employees and members as well as ensuring our ability to continue to serve the community needs.<br />\n&nbsp\;<br />\n<strong>At this time\, we have made the decision to postpone the SHE Influences Conference to a later date to be determined. Please assist us by notifying your attendees.</strong><br />\n&nbsp\;<br />\nWe are sensitive to the evolving situation and will work with all parties involved to address individual concerns. In the meantime\, should you have questions please contact me at the contact information below.<br />\n&nbsp\;<br />\nBelow is a list of resources focused on personal and office best practices.<br />\n&nbsp\;<br />\n<a href="https://urldefense.proofpoint.com/v2/url?u=https-3A__www.who.int_emergencies_diseases_novel-2Dcoronavirus-2D2019&amp\;d=DwMFAg&amp\;c=KoC5GYBOIefzxGAm2j6cjFf-Gz7ANghQIP9aFG9DuBs&amp\;r=5AotFksgIGrH8ZSeNMuzGa_PYikUTFHkx3IddaVQYUo&amp\;m=FmC93z6z_ntt1bf6mGUvkiYvKK4a-e4TxX71ovPgWsk&amp\;s=umizmB2Zwah2hXmI__VH-2pPKswlmyhu_to2hUa_ORk&amp\;e=">https://www.who.int/emergencies/diseases/novel-coronavirus-2019</a><br />\n&nbsp\;<br />\n<a href="https://urldefense.proofpoint.com/v2/url?u=https-3A__www.cdc.gov_coronavirus_2019-2DnCoV_index.html&amp\;d=DwMFAg&amp\;c=KoC5GYBOIefzxGAm2j6cjFf-Gz7ANghQIP9aFG9DuBs&amp\;r=5AotFksgIGrH8ZSeNMuzGa_PYikUTFHkx3IddaVQYUo&amp\;m=FmC93z6z_ntt1bf6mGUvkiYvKK4a-e4TxX71ovPgWsk&amp\;s=K9r34vaOxSaG0F94AxeW_1Wgi1z3XU8JONnYxRqvu-c&amp\;e=">https://www.cdc.gov/coronavirus/2019-nCoV/index.html</a><br />\n&nbsp\;<br />\n<a href="https://urldefense.proofpoint.com/v2/url?u=https-3A__advocacy.calchamber.com_coronavirus-2Dcovid-2D19_&amp\;d=DwMFAg&amp\;c=KoC5GYBOIefzxGAm2j6cjFf-Gz7ANghQIP9aFG9DuBs&amp\;r=5AotFksgIGrH8ZSeNMuzGa_PYikUTFHkx3IddaVQYUo&amp\;m=FmC93z6z_ntt1bf6mGUvkiYvKK4a-e4TxX71ovPgWsk&amp\;s=lQm_65_efSrdHcbm32zW4zEl_a06Vqvwtn_xq25fK4w&amp\;e=">https://advocacy.calchamber.com/coronavirus-covid-19/</a><br />\n&nbsp\;<br />\nThank you for your understanding and continued support.<br />\n<br />\nTheresa Harvey<br />\nPresident &amp\; CEO<br />\nNorth Orange County Chamber<br />\n714-871-3100<br />\n<a href="mailto:tharvey@nocchamber.com">tharvey@nocchamber.com</a><br />\n&nbsp\;<br />\n<strong>OUR NEW ADDRESS IS:</strong><br />\n100 W. Valencia Mesa Dr.\, #250<br />\nFullerton\, CA 92835<br />\nIn the Century 21 Discovery building<br />\n&nbsp\;<br />\n<br />\n&nbsp\;
LOCATION:POSTPONED
UID:e.887.23861
SEQUENCE:3
DTSTAMP:20260421T165007Z
URL:https://business.nocchamber.com/events/details/postponed-she-influences-conference-2020-23861
END:VEVENT

END:VCALENDAR
