BEGIN:VCALENDAR
VERSION:2.0
PRODID:-//ChamberMaster//Event Calendar 2.0//EN
METHOD:PUBLISH
X-PUBLISHED-TTL:P3D
REFRESH-INTERVAL:P3D
CALSCALE:GREGORIAN
BEGIN:VEVENT
DTSTART;VALUE=DATE:20200321
DTEND;VALUE=DATE:20200322
TRANSP:TRANSPARENT
X-MICROSOFT-CDO-ALLDAYEVENT:TRUE
SUMMARY:POSTPONED - Fullerton: American First Credit Union Grand Opening Celebration
DESCRIPTION:American First Credit Union is holding a grand opening celebration for their newest financial center in Fullerton. The celebration features free shredding from 9:00 a.m. until 11:00 a.m.\, free food and refreshments\, door prizes announced every hour\, a kids coloring zone and a free gift with any new account.
X-ALT-DESC;FMTTYPE=text/html:American First Credit Union is holding a grand opening celebration for their newest financial center in Fullerton. The celebration features free shredding from 9:00 a.m. until 11:00 a.m.\, free food and refreshments\, door prizes announced every hour\, a kids coloring zone and a free gift with any new account.
LOCATION:American First Credit Union 4180 N Harbor Blvd. Fullerton\, CA 92835
UID:e.887.24253
SEQUENCE:3
DTSTAMP:20260421T165304Z
URL:https://business.nocchamber.com/events/details/postponed-fullerton-american-first-credit-union-grand-opening-celebration-24253
END:VEVENT

END:VCALENDAR
