BEGIN:VCALENDAR
VERSION:2.0
PRODID:-//ChamberMaster//Event Calendar 2.0//EN
METHOD:PUBLISH
X-PUBLISHED-TTL:P3D
REFRESH-INTERVAL:P3D
CALSCALE:GREGORIAN
BEGIN:VEVENT
DTSTART:20191026T170000Z
DTEND:20191026T190000Z
X-MICROSOFT-CDO-ALLDAYEVENT:FALSE
SUMMARY:Pollinator Power
DESCRIPTION:Learn how and why to attract pollinators to your garden\, and also how to keep them away from your poolside. Additionally\, learn about the 4\,000+ bee species and their favorite plants.
X-ALT-DESC;FMTTYPE=text/html:Learn how and why to attract pollinators to your garden\, and also how to keep them away from your poolside. Additionally\, learn about the 4\,000+ bee species and their favorite plants.
LOCATION:Bacon Pavilion Classroom Fullerton Arboretum 1900 Associated Rd. Fullerton\, CA\, 92831
UID:e.887.23776
SEQUENCE:3
DTSTAMP:20260422T000504Z
URL:https://business.nocchamber.com/events/details/pollinator-power-23776
END:VEVENT

END:VCALENDAR
