BEGIN:VCALENDAR
VERSION:2.0
PRODID:-//ChamberMaster//Event Calendar 2.0//EN
METHOD:PUBLISH
X-PUBLISHED-TTL:P3D
REFRESH-INTERVAL:P3D
CALSCALE:GREGORIAN
BEGIN:VEVENT
DTSTART:20190301T000000Z
DTEND:20190301T020000Z
X-MICROSOFT-CDO-ALLDAYEVENT:FALSE
SUMMARY:Planet Fitness Buena Park Ribbon Cutting
DESCRIPTION:Join us as we celebrate the grand opening of Planet Fitness in Buena Park on Thursday\, February 28\, 2019 at 4:00 p.m. The ribbon cutting will occur at 4:10 p.m.\n\n\n\nAttendees will enjoy special giveaways and have the opportunity to take pictures in a photo booth. Music will be provided by local radio station KXOL-FM.\n\n\n\nNew members will have the chance to join Planet Fitness for just $1 down and then $10 a month through March 13
X-ALT-DESC;FMTTYPE=text/html:Join us as we celebrate the grand opening of Planet Fitness in Buena Park on Thursday\, February 28\, 2019 at 4:00 p.m. The ribbon cutting will occur at 4:10 p.m.<br />\n<br />\nAttendees will enjoy special giveaways and have the opportunity to take pictures in a photo booth. Music will be provided by local radio station KXOL-FM.<br />\n<br />\nNew members will have the chance to join Planet Fitness for just $1 down and then $10 a month through March 13
LOCATION:8381 La Palma Ave. Buena Park\, CA 90620
UID:e.887.22997
SEQUENCE:3
DTSTAMP:20260422T093623Z
URL:https://business.nocchamber.com/events/details/planet-fitness-buena-park-ribbon-cutting-22997
END:VEVENT

END:VCALENDAR
