BEGIN:VCALENDAR
VERSION:2.0
PRODID:-//ChamberMaster//Event Calendar 2.0//EN
METHOD:PUBLISH
X-PUBLISHED-TTL:P3D
REFRESH-INTERVAL:P3D
CALSCALE:GREGORIAN
BEGIN:VEVENT
DTSTART:20180425T170000Z
DTEND:20180425T230000Z
X-MICROSOFT-CDO-ALLDAYEVENT:FALSE
SUMMARY:Placentia Linda Hospital Job Fair - Nursing and Allied Health Positions Available
DESCRIPTION:Placentia-Linda Hospital is offering sign-on bonuses on select positions at a job fair for experienced registered nurses and allied health professionals on Wednesday\, April 25\, from 10 a.m. to 4 p.m.\n\n\n\nApplicants must have at least one year of experience.\n\n\n\nThe event will be held in the Conference Room at the hospital\, which is located at 1301 N. Rose Drive in Placentia\, CA. To register for the job fair\, please go to http://oc.rsvp-careerfair.com/#/.\n\n\n\nIf you possess a current license/certification/registration and applicable degree\, we are seeking healthcare professionals in these areas:\n\nRN\, CNA\, PT\, OT\, SLP\, RT\, CLS\, Rad Tech and more.\n\nUp to $15\,000 sign on bonus for select positions!
X-ALT-DESC;FMTTYPE=text/html:<span style="font-family:arial\;"><span style="color: rgb(0\, 0\, 0)\;">Placentia-Linda Hospital is offering sign-on bonuses on select positions at a job fair for experienced registered nurses and allied health professionals on Wednesday\, April 25\, from 10 a.m. to 4 p.m.</span></span><br />\n<br />\nApplicants must have at least one year of experience.<br />\n<br />\nThe event will be held in the Conference Room at the hospital\, which is located at 1301 N. Rose Drive in&nbsp\;Placentia\, CA. To register for the job fair\, please go to&nbsp\;<a href="http://oc.rsvp-careerfair.com/#/" target="_blank">http://oc.rsvp-careerfair.com/#/</a>.<br />\n<br />\nIf you possess a current license/certification/registration and applicable degree\, we are seeking healthcare professionals in these areas:<br />\nRN\, CNA\, PT\, OT\,&nbsp\;SLP\, RT\,&nbsp\;CLS\, Rad Tech and more.<br />\nUp to $15\,000 sign on bonus for select positions!
LOCATION:Placentia Linda Hospital Conference Room 1301 N. Rose Dr. Placentia\,CA
UID:e.887.21339
SEQUENCE:3
DTSTAMP:20260421T233443Z
URL:https://business.nocchamber.com/events/details/placentia-linda-hospital-job-fair-nursing-and-allied-health-positions-available-21339
END:VEVENT

END:VCALENDAR
