BEGIN:VCALENDAR
VERSION:2.0
PRODID:-//ChamberMaster//Event Calendar 2.0//EN
METHOD:PUBLISH
X-PUBLISHED-TTL:P3D
REFRESH-INTERVAL:P3D
CALSCALE:GREGORIAN
BEGIN:VEVENT
DTSTART:20180802T183000Z
DTEND:20180802T200000Z
X-MICROSOFT-CDO-ALLDAYEVENT:FALSE
SUMMARY:Pizza Press Buena Park Ribbon Cutting
DESCRIPTION:Join us for a ribbon cutting ceremony to celebrate the grand opening of Pizza Press Buena Park at the Source OC on Thursday\, August 2\, from 11:30 a.m. to 1:00 p.m. Ribbon Cutting will take place at 12:00 p.m.
X-ALT-DESC;FMTTYPE=text/html:<span style="color: rgb(68\, 68\, 68)\; font-family: Arial\, Helvetica\, sans-serif\; font-size: 14px\;">Join us for a ribbon cutting ceremony to celebrate the grand opening of<a href="https://www.facebook.com/thepizzapressbuenapark/" target="_blank">&nbsp\;Pizza Press Buena Park</a> at the Source OC</span><span style="color: rgb(68\, 68\, 68)\; font-family: Arial\, Helvetica\, sans-serif\; font-size: 14px\;">&nbsp\;on Thursday\, August 2\, from 11:30 a.m. to 1:00 p.m. Ribbon Cutting will take place at 12:00 p.m.</span>
LOCATION:6930 Beach Blvd L-130 (The Source OC) Buena Park\, CA 90621
UID:e.887.22551
SEQUENCE:3
DTSTAMP:20260422T091221Z
URL:https://business.nocchamber.com/events/details/pizza-press-buena-park-ribbon-cutting-22551
END:VEVENT

END:VCALENDAR
