BEGIN:VCALENDAR
VERSION:2.0
PRODID:-//ChamberMaster//Event Calendar 2.0//EN
METHOD:PUBLISH
X-PUBLISHED-TTL:P3D
REFRESH-INTERVAL:P3D
CALSCALE:GREGORIAN
BEGIN:VEVENT
DTSTART:20190906T023000Z
DTEND:20190906T043000Z
X-MICROSOFT-CDO-ALLDAYEVENT:FALSE
SUMMARY:Peter Brandon at Muckenthaler
DESCRIPTION:One of Fullerton's favorite sons returns for his twelfth consecutive year. Peter is a perfect combination of country music talent\, command of his stage\, and engaging with his audience.\n\nHome Town Heroes series presented by Reliance Real Estate Services.
X-ALT-DESC;FMTTYPE=text/html:<p>One of Fullerton&rsquo\;s favorite sons returns for his twelfth consecutive year. Peter is a perfect combination of country music talent\, command of his stage\, and engaging with his audience.</p>\n\n<p>Home Town Heroes series presented by Reliance Real Estate Services.</p>\n
LOCATION:The Muckenthaler Cultural Center 1201 W Malvern Ave Fullerton\, CA 92833
UID:e.887.23637
SEQUENCE:3
DTSTAMP:20260422T002423Z
URL:https://business.nocchamber.com/events/details/peter-brandon-at-muckenthaler-23637
END:VEVENT

END:VCALENDAR
