BEGIN:VCALENDAR
VERSION:2.0
PRODID:-//ChamberMaster//Event Calendar 2.0//EN
METHOD:PUBLISH
X-PUBLISHED-TTL:P3D
REFRESH-INTERVAL:P3D
CALSCALE:GREGORIAN
BEGIN:VEVENT
DTSTART:20190816T160000Z
DTEND:20190816T180000Z
X-MICROSOFT-CDO-ALLDAYEVENT:FALSE
SUMMARY:Perfect Pickles: A Pickling Demo at Fullerton Community Center
DESCRIPTION:Pickling is a great way to use extra produce and reduce waste. Learn how to properly pickle veggies and other foods for future use. Canning\, food safety\, and the basics of fermentation will be covered. Class will be presented by the Master Preservers of Orange County.
X-ALT-DESC;FMTTYPE=text/html:Pickling is a great way to use extra produce and reduce waste. Learn how to properly pickle veggies and other foods for future use. Canning\, food safety\, and the basics of fermentation will be covered. Class will be presented by the Master Preservers of Orange County.
LOCATION:Fullerton Community Center 340 W Commonwealth Ave Fullerton\, CA 92832
UID:e.887.23629
SEQUENCE:3
DTSTAMP:20260422T015652Z
URL:https://business.nocchamber.com/events/details/perfect-pickles-a-pickling-demo-at-fullerton-community-center-23629
END:VEVENT

END:VCALENDAR
